BEGIN:VCALENDAR
VERSION:2.0
PRODID:-//hacksw/handcal//NONSGML v1.0//EN
CALSCALE:GREGORIAN
BEGIN:VTIMEZONE
TZID:Europe/Berlin
X-LIC-LOCATION:Europe/Berlin
BEGIN:DAYLIGHT
TZOFFSETFROM:+0100
TZOFFSETTO:+0200
TZNAME:CEST
DTSTART:19700329T020000
RRULE:FREQ=YEARLY;BYDAY=-1SU;BYMONTH=3
END:DAYLIGHT
BEGIN:STANDARD
TZOFFSETFROM:+0200
TZOFFSETTO:+0100
TZNAME:CET
DTSTART:19701025T030000
RRULE:FREQ=YEARLY;BYDAY=-1SU;BYMONTH=10
END:STANDARD
END:VTIMEZONE
BEGIN:VEVENT
DTEND;TZID=Europe/Berlin:20260803T150000
UID:69e60fd652b20
DTSTAMP:20260420T133654
LOCATION:Hof Heinbach
DESCRIPTION:Lust auf ein tierisches Abenteuer?\r\n\r\nIn den Sommerferien - genau am 03.08.26 - besucht das Kinder- und Jugendbüro den Begegnungsbauernhof Hof Heinbach. Von 9 bis 15 Uhr könnt ihr Schafe\, Ziegen\, Pferde\, Hühner und Hunde hautnah erleben\, streicheln und mehr über sie erfahren. \r\n\r\nSpielen\, entdecken und jede Menge Spaß und ein unvergesslicher Ferientag für Kinder im Alter von 6 bis 12 Jahren vorrangig aus dem Siegener Stadtgebiet - Anmeldungen aus dem Kreisgebiet sind ab dem 01.07.26 möglich. \r\n\r\nDa das Angebot mehrfach im Ferienspaß beworben wird und die Nachfrage sehr groß ist\, kann jedes Kind jeweils nur 1 x an der gleichen Veranstaltung teilnehmen\; Mehrfachanmeldungen sind nicht erwünscht\, um möglichst vielen verschiedenen Kindern die Teilnahme an dem Angebot zu ermöglichen. \r\n\r\nBei Fragen meldet Euch gerne vorher:\r\n\r\nKinder- und Jugendbüro\r\nLisa Chatterjee\r\n0271 / 404-2970\r\nl.chatterjee@siegen.de
URL;VALUE=URI:https://www.unser-ferienprogramm.de/siegen/veranstaltung.php?id=301311
SUMMARY:Erlebnistag auf Hof Heinbach
DTSTART;TZID=Europe/Berlin:20260803T090000
END:VEVENT

END:VCALENDAR
