BEGIN:VCALENDAR
VERSION:2.0
PRODID:-//hacksw/handcal//NONSGML v1.0//EN
CALSCALE:GREGORIAN
BEGIN:VTIMEZONE
TZID:Europe/Berlin
X-LIC-LOCATION:Europe/Berlin
BEGIN:DAYLIGHT
TZOFFSETFROM:+0100
TZOFFSETTO:+0200
TZNAME:CEST
DTSTART:19700329T020000
RRULE:FREQ=YEARLY;BYDAY=-1SU;BYMONTH=3
END:DAYLIGHT
BEGIN:STANDARD
TZOFFSETFROM:+0200
TZOFFSETTO:+0100
TZNAME:CET
DTSTART:19701025T030000
RRULE:FREQ=YEARLY;BYDAY=-1SU;BYMONTH=10
END:STANDARD
END:VTIMEZONE
BEGIN:VEVENT
DTEND;TZID=Europe/Berlin:20260625T174500
UID:69e60fdfabb60
DTSTAMP:20260420T133703
LOCATION:
DESCRIPTION:Ihr Kind\r\n- ist in der Schule und bei den Hausaufgaben unkonzentriert und arbeitet nur wenig selbstständig\r\n- findet keinen Anfang\, ist leicht ablenkbar und langsam?\r\n- oder arbeitet es zu schnell und unaufmerksam und macht "Flüchtigkeitsfehler"?\r\n\r\nDie Methode des "Marburger Konzentrationstrainings" dient neben der Unterstützung der Konzentrationsfähigkeit vor allem der Verbesserung der Motivation und des Arbeitsstils. Das Training ist spielerisch und spannend aufgebaut und stützt sich auf die langjährige Erfahrung ihres Entwicklers\, dem Dipl. Psych. Dieter Krowatschek.\r\n\r\nPro Gruppe nehmen max. 8 Kinder teil.\r\n\r\nTermine: jeweils donnerstags von 16:15-17:45 Uhr an folgenden Terminen:\r\n\r\n21.05.2026\r\n28.05.2026\r\n11.06.2026\r\n18.06.2026\r\n25.06.2026\r\n\r\nIm Anschluss bieten auf Wunsch ein persönliches Gespräch für die Eltern an. Alle erhalten ein Handout  Informationen zum Training und Anregungen\, wie man sein Kind zuhause unterstützen kann.
URL;VALUE=URI:https://www.unser-ferienprogramm.de/siegen/veranstaltung.php?id=298897
SUMMARY:Marburger Konzentrationstraining für Grundschulkinder
DTSTART;TZID=Europe/Berlin:20260521T161500
END:VEVENT

END:VCALENDAR
