BEGIN:VCALENDAR
VERSION:2.0
PRODID:-//hacksw/handcal//NONSGML v1.0//EN
CALSCALE:GREGORIAN
BEGIN:VTIMEZONE
TZID:Europe/Berlin
X-LIC-LOCATION:Europe/Berlin
BEGIN:DAYLIGHT
TZOFFSETFROM:+0100
TZOFFSETTO:+0200
TZNAME:CEST
DTSTART:19700329T020000
RRULE:FREQ=YEARLY;BYDAY=-1SU;BYMONTH=3
END:DAYLIGHT
BEGIN:STANDARD
TZOFFSETFROM:+0200
TZOFFSETTO:+0100
TZNAME:CET
DTSTART:19701025T030000
RRULE:FREQ=YEARLY;BYDAY=-1SU;BYMONTH=10
END:STANDARD
END:VTIMEZONE
BEGIN:VEVENT
DTEND;TZID=Europe/Berlin:20260808T000000
UID:69e60f84f0da8
DTSTAMP:20260420T133532
LOCATION:Achenbach (Breidenbach)
DESCRIPTION:Komm mit auf unser nächstes Abenteuer!\r\nDieses Jahr fährt der CVJM Weidenau wieder auf großes Sommerzeltlager. Egal ob wir in die Welt von Robin Hood eintauchen\, wilde Tiere bei der Safari beobachten oder mit den drei ??? einen Fall lösen. Eines ist garantiert: Viel Spaß\, eine großartige Gemeinschaft und Zeit miteinander und mit Gott verbringen.\r\nEs gibt viele verschiedene Freizeitangebote\, Geländespiele\, Hobbygruppen zum basteln und werkeln\, Bibelarbeiten\, einen großen Ausflug und viele weitere spannende Programmpunkte. Du willst wissen welches Abenteuer wir vom 01.08. - 08.08.2026 in Achenbach (Breidenbach) erleben\, dann komm mit und finde es heraus.\r\nWir freuen uns auf dich!\r\n
URL;VALUE=URI:https://www.unser-ferienprogramm.de/siegen/veranstaltung.php?id=298680
SUMMARY:Zeltlager in Achenbach 
DTSTART;TZID=Europe/Berlin:20260801T000000
END:VEVENT

END:VCALENDAR
