BEGIN:VCALENDAR
VERSION:2.0
PRODID:-//hacksw/handcal//NONSGML v1.0//EN
CALSCALE:GREGORIAN
BEGIN:VTIMEZONE
TZID:Europe/Berlin
X-LIC-LOCATION:Europe/Berlin
BEGIN:DAYLIGHT
TZOFFSETFROM:+0100
TZOFFSETTO:+0200
TZNAME:CEST
DTSTART:19700329T020000
RRULE:FREQ=YEARLY;BYDAY=-1SU;BYMONTH=3
END:DAYLIGHT
BEGIN:STANDARD
TZOFFSETFROM:+0200
TZOFFSETTO:+0100
TZNAME:CET
DTSTART:19701025T030000
RRULE:FREQ=YEARLY;BYDAY=-1SU;BYMONTH=10
END:STANDARD
END:VTIMEZONE
BEGIN:VEVENT
DTEND;TZID=Europe/Berlin:20260807T163000
UID:69e60fd6d7b70
DTSTAMP:20260420T133654
LOCATION:Calvary Chapel Siegen-Eiserfeld
DESCRIPTION:CAMISSIO CAMP2GO Abenteuerferien in Siegen-Eiserfeld\r\n\r\nSeid ihr bereit für eine Woche voller Spaß\, Action und Abenteuer? Dann kommt zu unserem CAMISSIO CAMP2GO! Euch erwarten riesige Hüpfburgen\, eine schnelle Wasserrutsche\, spannende Spiele und Bühnen-Shows\, die euch begeistern werden. Aber das Beste: Neben all dem Spaß werdet ihr noch etwas ganz Besonderes erleben – wir wollen euch zeigen\, wie sehr Gott euch liebt!\r\n\r\nAber das ist noch nicht alles! Im Camp lernt ihr\, wie wichtig Freundschaft\, Respekt und Zusammenhalt sind. Und wisst ihr was? Wir zeigen euch\, wie einzigartig ihr seid und was ihr alles Tolles drauf habt! Zusammen entdecken wir eure Talente\, und am Ende habt ihr nicht nur jede Menge Spaß gehabt\, sondern auch ganz viel Selbstvertrauen gewonnen. Neben all dem Spaß werdet ihr noch etwas ganz Besonderes erleben – wir wollen euch zeigen\, wer Gott ist und wie sehr Gott euch liebt! Das wird ein Sommer\, den ihr nie vergessen werdet!\r\n\r\nAlso\, seid ihr dabei? Wir freuen uns auf euch!\r\n
URL;VALUE=URI:https://www.unser-ferienprogramm.de/siegen/veranstaltung.php?id=295845
SUMMARY:CAMISSIO CAMP2GO in Siegen-Eiserfeld
DTSTART;TZID=Europe/Berlin:20260803T083000
END:VEVENT

END:VCALENDAR
