BEGIN:VCALENDAR
VERSION:2.0
PRODID:-//hacksw/handcal//NONSGML v1.0//EN
CALSCALE:GREGORIAN
BEGIN:VTIMEZONE
TZID:Europe/Berlin
X-LIC-LOCATION:Europe/Berlin
BEGIN:DAYLIGHT
TZOFFSETFROM:+0100
TZOFFSETTO:+0200
TZNAME:CEST
DTSTART:19700329T020000
RRULE:FREQ=YEARLY;BYDAY=-1SU;BYMONTH=3
END:DAYLIGHT
BEGIN:STANDARD
TZOFFSETFROM:+0200
TZOFFSETTO:+0100
TZNAME:CET
DTSTART:19701025T030000
RRULE:FREQ=YEARLY;BYDAY=-1SU;BYMONTH=10
END:STANDARD
END:VTIMEZONE
BEGIN:VEVENT
DTEND;TZID=Europe/Berlin:20260510T160000
UID:69ea2f5570ac6
DTSTAMP:20260423T164021
LOCATION:
DESCRIPTION:Gemeinsam verbringen wir ein abwechslungsreiches Wochenende im Harz! Am Freitagmittag starten wir mit unserem Bus in Richtung Jugendherberge Thale\, wo wir zwei Nächte verbringen und gemeinsam essen und den Abend ausklingen lassen.\r\n\r\nDer Samstag steht ganz im Zeichen der Natur: Wir unternehmen eine Wanderung durch den Grand Canyon des Harzes . Auf dem Weg erleben wir die besondere Landschaft des Harzes mit seinen Felsen\, Wäldern und Ausblicken.\r\n\r\nAm Sonntag entscheidet ihr zusammen\, worauf ihr am meisten Lust habt: Zur Auswahl stehen ein Besuch im Hochseilgarten\, ein Ausflug ins Schwimmbad oder eine Fahrt mit der Rodelbahn. Anschließend treten wir gemeinsam die Rückfahrt an und kommen am Sonntag Nachmittag wieder zu Hause an.\r\n\r\nFreut euch auf ein Wochenende mit Natur\, Bewegung!
URL;VALUE=URI:https://www.unser-ferienprogramm.de/seelze/veranstaltung.php?id=297375
SUMMARY:Abenteuerwochenende im Bodetal
DTSTART;TZID=Europe/Berlin:20260508T153000
END:VEVENT

END:VCALENDAR
