BEGIN:VCALENDAR
VERSION:2.0
PRODID:-//hacksw/handcal//NONSGML v1.0//EN
CALSCALE:GREGORIAN
BEGIN:VTIMEZONE
TZID:Europe/Berlin
X-LIC-LOCATION:Europe/Berlin
BEGIN:DAYLIGHT
TZOFFSETFROM:+0100
TZOFFSETTO:+0200
TZNAME:CEST
DTSTART:19700329T020000
RRULE:FREQ=YEARLY;BYDAY=-1SU;BYMONTH=3
END:DAYLIGHT
BEGIN:STANDARD
TZOFFSETFROM:+0200
TZOFFSETTO:+0100
TZNAME:CET
DTSTART:19701025T030000
RRULE:FREQ=YEARLY;BYDAY=-1SU;BYMONTH=10
END:STANDARD
END:VTIMEZONE
BEGIN:VEVENT
DTEND;TZID=Europe/Berlin:20260807T163000
UID:69ea32a21385b
DTSTAMP:20260423T165426
LOCATION:Klöcknerstrasse 15
DESCRIPTION:Ihr habt das ganze blaue Haus um euch auszutoben. Wir machen dazu Angebote für euch: basteln\, spielen\, kochen\, backen\, gärtnern. Gerade  wonach euch der Kopf steht. \r\n\r\nFür eure Wünsche sind wir natürlich offen!\r\n\r\nDie Ferienbetreuung ist täglich von 08:00-16:30 Uhr\r\n\r\nWir freuen uns auf euch!\r\n\r\nEin Mittagessen\, dass mit den Kindern zusammen gekocht wird\, Wasser und Obst sind im Preis enthalten.\r\nWeitere 12 Plätze werden im Frühjahr mit der Veröffentlichung des Sommerferienpasses frei geschaltet.\r\n\r\nUm besser auf die Kinder eingehen zu können\, brauchen wir den Kinderbogen ausgefüllt im Vorfeld (per Mail oder Post)\r\n\r\nDieses Angebot richtet sich an Kinder\, die bereits in der Schule sind und nicht erst jetzt in die Schule kommen.\r\n\r\n
URL;VALUE=URI:https://www.unser-ferienprogramm.de/seelze/veranstaltung.php?id=291943
SUMMARY:Verlässliche Ferienbetreuung Sommer- die Kleinen
DTSTART;TZID=Europe/Berlin:20260803T080000
END:VEVENT

END:VCALENDAR
