BEGIN:VCALENDAR
VERSION:2.0
PRODID:-//hacksw/handcal//NONSGML v1.0//EN
CALSCALE:GREGORIAN
BEGIN:VTIMEZONE
TZID:Europe/Berlin
X-LIC-LOCATION:Europe/Berlin
BEGIN:DAYLIGHT
TZOFFSETFROM:+0100
TZOFFSETTO:+0200
TZNAME:CEST
DTSTART:19700329T020000
RRULE:FREQ=YEARLY;BYDAY=-1SU;BYMONTH=3
END:DAYLIGHT
BEGIN:STANDARD
TZOFFSETFROM:+0200
TZOFFSETTO:+0100
TZNAME:CET
DTSTART:19701025T030000
RRULE:FREQ=YEARLY;BYDAY=-1SU;BYMONTH=10
END:STANDARD
END:VTIMEZONE
BEGIN:VEVENT
DTEND;TZID=Europe/Berlin:20260815T000000
UID:69ebdeac21966
DTSTAMP:20260424T232044
LOCATION:Chiemgau
DESCRIPTION:Mit dem Zug sind wir quer durch Süddeutschland unterwegs\, jeder Tag bringt eine neue Challenge und einen neuen Ort\, den jedes Team finden muss. Ist alles abgehakt\, entspannen wir in der zweiten Ferienwoche im Chiemgau. Freu dich auf viel Action\, gemütliche Zeiten am Lagerfeuer und Gespräche rund um Jesus und den Glauben!\r\n\r\nIm Teilnehmerbeitrag enthalten ist die Unterkunft in Schlafsälen und Zimmern\, Verpflegung und Ausflüge.\r\n\r\nAnmeldung direkt beim CVJM unter www.cvjm-schweinfurt.de\r\n\r\nVeranstalter:\r\nCVJM Schweinfurt
URL;VALUE=URI:https://www.unser-ferienprogramm.de/schweinfurt/veranstaltung.php?id=309897
SUMMARY:Jugendfreizeit Traintrip
DTSTART;TZID=Europe/Berlin:20260802T000000
END:VEVENT

END:VCALENDAR
