BEGIN:VCALENDAR
VERSION:2.0
PRODID:-//hacksw/handcal//NONSGML v1.0//EN
CALSCALE:GREGORIAN
BEGIN:VTIMEZONE
TZID:Europe/Berlin
X-LIC-LOCATION:Europe/Berlin
BEGIN:DAYLIGHT
TZOFFSETFROM:+0100
TZOFFSETTO:+0200
TZNAME:CEST
DTSTART:19700329T020000
RRULE:FREQ=YEARLY;BYDAY=-1SU;BYMONTH=3
END:DAYLIGHT
BEGIN:STANDARD
TZOFFSETFROM:+0200
TZOFFSETTO:+0100
TZNAME:CET
DTSTART:19701025T030000
RRULE:FREQ=YEARLY;BYDAY=-1SU;BYMONTH=10
END:STANDARD
END:VTIMEZONE
BEGIN:VEVENT
DTEND;TZID=Europe/Berlin:20260829T220000
UID:69ebe417e8bc0
DTSTAMP:20260424T234351
LOCATION:Messegelände Köln
DESCRIPTION:Bock auf Gamescom?\r\n\r\nDann begleite uns doch auf unserer Jugendfreizeitfahrt zur größten Spielemesse „Gamescom“ nach Köln. Wir fahren im bequemen Reisebus. Somit landest du ausgeruht in Köln und hast volle Power\, um die Gamescom zu erkunden. Lerne andere Gamer:innen aus unserer Region kennen\, denn im Team macht die Gamescom noch mehr Spaß. Oder bringe einfach deine Freund:innen mit.\r\n\r\nAber Achtung: Jedes Jahr sind wir immer sehr schnell ausgebucht. Also worauf wartest du?\r\n\r\nAnmeldung nur direkt beim CCSW unter info@mksw-gamer.de oder telefonisch unter 0157-30688088.\r\n\r\nEine Teilnahme ist ab 16 Jahren ohne Erziehungsberechtigten möglich. Unter 16 Jahren nur in Begleitung eines Erziehungsberechtigten.\r\n\r\nPreis auf Anfrage\r\n\r\nVeranstalter:\r\nComputer Club Schweinfurt "Good Byte" e. V.
URL;VALUE=URI:https://www.unser-ferienprogramm.de/schweinfurt/veranstaltung.php?id=307195
SUMMARY:Jugendfahrt zur Gamescom
DTSTART;TZID=Europe/Berlin:20260829T033000
END:VEVENT

END:VCALENDAR
