BEGIN:VCALENDAR
VERSION:2.0
PRODID:-//hacksw/handcal//NONSGML v1.0//EN
CALSCALE:GREGORIAN
BEGIN:VTIMEZONE
TZID:Europe/Berlin
X-LIC-LOCATION:Europe/Berlin
BEGIN:DAYLIGHT
TZOFFSETFROM:+0100
TZOFFSETTO:+0200
TZNAME:CEST
DTSTART:19700329T020000
RRULE:FREQ=YEARLY;BYDAY=-1SU;BYMONTH=3
END:DAYLIGHT
BEGIN:STANDARD
TZOFFSETFROM:+0200
TZOFFSETTO:+0100
TZNAME:CET
DTSTART:19701025T030000
RRULE:FREQ=YEARLY;BYDAY=-1SU;BYMONTH=10
END:STANDARD
END:VTIMEZONE
BEGIN:VEVENT
DTEND;TZID=Europe/Berlin:20260808T000000
UID:69ebde7e1b1b1
DTSTAMP:20260424T231958
LOCATION:Châteaudun
DESCRIPTION:Du bist zwischen 14 und 17 Jahre alt\, hast Lust neue Menschen kennenzulernen und eine Woche in Frankreich zu verbringen? Dann komm mit zur Internationalen Jugendbegegnung in unsere Partnerstadt Châteaudun!\r\n\r\nGemeinsam mit Jugendlichen aus Schweinfurt und Châteaudun erwartet dich eine spannende Woche voller Begegnungen\, gemeinsamer Aktivitäten und interkulturellem Austausch. Neben Ausflügen\, Workshops und Freizeitaktionen bleibt natürlich auch genügend Zeit\, um die Stadt Châteaudun zu entdecken\, neue Freundschaften zu schließen und gemeinsam Spaß zu haben.\r\n\r\nDie Jugendbegegnung bietet dir die Möglichkeit\, Frankreich und seine Kultur kennenzulernen\, deine Sprachkenntnisse auszuprobieren und Jugendliche aus einem anderen Land zu treffen.\r\n\r\nWer kann teilnehmen?\r\nJugendliche aus Schweinfurt im Alter von 14 bis 17 Jahren\r\n\r\nWas dich erwartet:\r\n- Begegnung mit Jugendlichen aus Châteaudun\r\n- Gemeinsame Workshops und Aktivitäten\r\n- Ausflüge und Freizeitprogramm\r\n- Interkultureller Austausch\r\n- Spaß\, neue Erfahrungen und internationale Freundschaften\r\n\r\nWichtiger Hinweis:\r\nIm Jahr 2027 ist ein Gegenbesuch der französischen Jugendlichen in Schweinfurt geplant. Dieser findet voraussichtlich in der dritten Woche der Sommerferien statt. Wir bitten alle Teilnehmenden\, nach Möglichkeit auch an diesem Begegnungsprogramm in Schweinfurt teilzunehmen\, um den Austausch für beide Gruppen vollständig zu erleben.\r\n\r\nDie Anmeldung für Jugendliche aus dem Landkreis Schweinfurt ist ab 20.04. um 0:00 Uhr möglich. \r\n\r\nDie Jugendbegegnung wird vom Stadtjugendring Schweinfurt organisiert und betreut.
URL;VALUE=URI:https://www.unser-ferienprogramm.de/schweinfurt/veranstaltung.php?id=307150
SUMMARY:Internationale Jugendbegegnung in Châteaudun 
DTSTART;TZID=Europe/Berlin:20260802T000000
END:VEVENT

END:VCALENDAR
