BEGIN:VCALENDAR
VERSION:2.0
PRODID:-//hacksw/handcal//NONSGML v1.0//EN
CALSCALE:GREGORIAN
BEGIN:VTIMEZONE
TZID:Europe/Berlin
X-LIC-LOCATION:Europe/Berlin
BEGIN:DAYLIGHT
TZOFFSETFROM:+0100
TZOFFSETTO:+0200
TZNAME:CEST
DTSTART:19700329T020000
RRULE:FREQ=YEARLY;BYDAY=-1SU;BYMONTH=3
END:DAYLIGHT
BEGIN:STANDARD
TZOFFSETFROM:+0200
TZOFFSETTO:+0100
TZNAME:CET
DTSTART:19701025T030000
RRULE:FREQ=YEARLY;BYDAY=-1SU;BYMONTH=10
END:STANDARD
END:VTIMEZONE
BEGIN:VEVENT
DTEND;TZID=Europe/Berlin:20260526T160000
UID:69ebce5f36b47
DTSTAMP:20260424T221111
LOCATION:Albert-Schweitzer-Grundschule
DESCRIPTION:Freu dich auf eine Ferienzeit voller spannender Spiele\, kreativen Bastelideen und tollen Abenteuern. Egal ob Indoor oder Outdoor\, Langeweile hat hier keine Chance! Schließe neue Freundschaften tobe dich aus und entdecke jeden Tag etwas Neues. Komm vorbei und mach aus deinen Ferien unvergessliche Momente.\r\n\r\nIm Preis inklusive ist für jeden Tag ein warmes Mittagessen (auch vegetarisch\, jedoch nicht vegan). Für den kleinen Snack am Morgen bring dir ein kleines Frühstück in einer Brotzeitbox mit. Eine gefüllte Trinkflasche sollte ebenfalls zu deiner Ausrüstung gehören.\r\n\r\nUm unsere Aktivitäten auch ins freie verlagern zu können ist wetterfeste Kleidung\, beschriftet mit deinem Namen\, mitzubringen. Damit du keine kalten Füße bekommst wenn wir im Gebäude bleiben bringe bitte ein Paar Hausschuhe mit.\r\n\r\nVeranstalter\r\ngfi gGmbH Schweinfurt in Kooperation mit der Kommunalen Jugendarbeit
URL;VALUE=URI:https://www.unser-ferienprogramm.de/schweinfurt/veranstaltung.php?id=305209
SUMMARY:Ferienbetreuung mit der gfi – Gemeinschaft.Freizeit.Inspiration\; Deine Ferien.Dein Team. Dein Abenteuer
DTSTART;TZID=Europe/Berlin:20260526T080000
END:VEVENT


BEGIN:VEVENT
DTEND;TZID=Europe/Berlin:20260527T160000
UID:69ebce5f36b591
DTSTAMP:20260424T221111
LOCATION:Albert-Schweitzer-Grundschule
DESCRIPTION:Freu dich auf eine Ferienzeit voller spannender Spiele\, kreativen Bastelideen und tollen Abenteuern. Egal ob Indoor oder Outdoor\, Langeweile hat hier keine Chance! Schließe neue Freundschaften tobe dich aus und entdecke jeden Tag etwas Neues. Komm vorbei und mach aus deinen Ferien unvergessliche Momente.\r\n\r\nIm Preis inklusive ist für jeden Tag ein warmes Mittagessen (auch vegetarisch\, jedoch nicht vegan). Für den kleinen Snack am Morgen bring dir ein kleines Frühstück in einer Brotzeitbox mit. Eine gefüllte Trinkflasche sollte ebenfalls zu deiner Ausrüstung gehören.\r\n\r\nUm unsere Aktivitäten auch ins freie verlagern zu können ist wetterfeste Kleidung\, beschriftet mit deinem Namen\, mitzubringen. Damit du keine kalten Füße bekommst wenn wir im Gebäude bleiben bringe bitte ein Paar Hausschuhe mit.\r\n\r\nVeranstalter\r\ngfi gGmbH Schweinfurt in Kooperation mit der Kommunalen Jugendarbeit
URL;VALUE=URI:https://www.unser-ferienprogramm.de/schweinfurt/veranstaltung.php?id=305209
SUMMARY:Ferienbetreuung mit der gfi – Gemeinschaft.Freizeit.Inspiration\; Deine Ferien.Dein Team. Dein Abenteuer
DTSTART;TZID=Europe/Berlin:20260527T080000
END:VEVENT


BEGIN:VEVENT
DTEND;TZID=Europe/Berlin:20260528T160000
UID:69ebce5f36b632
DTSTAMP:20260424T221111
LOCATION:Albert-Schweitzer-Grundschule
DESCRIPTION:Freu dich auf eine Ferienzeit voller spannender Spiele\, kreativen Bastelideen und tollen Abenteuern. Egal ob Indoor oder Outdoor\, Langeweile hat hier keine Chance! Schließe neue Freundschaften tobe dich aus und entdecke jeden Tag etwas Neues. Komm vorbei und mach aus deinen Ferien unvergessliche Momente.\r\n\r\nIm Preis inklusive ist für jeden Tag ein warmes Mittagessen (auch vegetarisch\, jedoch nicht vegan). Für den kleinen Snack am Morgen bring dir ein kleines Frühstück in einer Brotzeitbox mit. Eine gefüllte Trinkflasche sollte ebenfalls zu deiner Ausrüstung gehören.\r\n\r\nUm unsere Aktivitäten auch ins freie verlagern zu können ist wetterfeste Kleidung\, beschriftet mit deinem Namen\, mitzubringen. Damit du keine kalten Füße bekommst wenn wir im Gebäude bleiben bringe bitte ein Paar Hausschuhe mit.\r\n\r\nVeranstalter\r\ngfi gGmbH Schweinfurt in Kooperation mit der Kommunalen Jugendarbeit
URL;VALUE=URI:https://www.unser-ferienprogramm.de/schweinfurt/veranstaltung.php?id=305209
SUMMARY:Ferienbetreuung mit der gfi – Gemeinschaft.Freizeit.Inspiration\; Deine Ferien.Dein Team. Dein Abenteuer
DTSTART;TZID=Europe/Berlin:20260528T080000
END:VEVENT


BEGIN:VEVENT
DTEND;TZID=Europe/Berlin:20260529T160000
UID:69ebce5f36b6b3
DTSTAMP:20260424T221111
LOCATION:Albert-Schweitzer-Grundschule
DESCRIPTION:Freu dich auf eine Ferienzeit voller spannender Spiele\, kreativen Bastelideen und tollen Abenteuern. Egal ob Indoor oder Outdoor\, Langeweile hat hier keine Chance! Schließe neue Freundschaften tobe dich aus und entdecke jeden Tag etwas Neues. Komm vorbei und mach aus deinen Ferien unvergessliche Momente.\r\n\r\nIm Preis inklusive ist für jeden Tag ein warmes Mittagessen (auch vegetarisch\, jedoch nicht vegan). Für den kleinen Snack am Morgen bring dir ein kleines Frühstück in einer Brotzeitbox mit. Eine gefüllte Trinkflasche sollte ebenfalls zu deiner Ausrüstung gehören.\r\n\r\nUm unsere Aktivitäten auch ins freie verlagern zu können ist wetterfeste Kleidung\, beschriftet mit deinem Namen\, mitzubringen. Damit du keine kalten Füße bekommst wenn wir im Gebäude bleiben bringe bitte ein Paar Hausschuhe mit.\r\n\r\nVeranstalter\r\ngfi gGmbH Schweinfurt in Kooperation mit der Kommunalen Jugendarbeit
URL;VALUE=URI:https://www.unser-ferienprogramm.de/schweinfurt/veranstaltung.php?id=305209
SUMMARY:Ferienbetreuung mit der gfi – Gemeinschaft.Freizeit.Inspiration\; Deine Ferien.Dein Team. Dein Abenteuer
DTSTART;TZID=Europe/Berlin:20260529T080000
END:VEVENT

END:VCALENDAR
