BEGIN:VCALENDAR
VERSION:2.0
PRODID:-//hacksw/handcal//NONSGML v1.0//EN
CALSCALE:GREGORIAN
BEGIN:VTIMEZONE
TZID:Europe/Berlin
X-LIC-LOCATION:Europe/Berlin
BEGIN:DAYLIGHT
TZOFFSETFROM:+0100
TZOFFSETTO:+0200
TZNAME:CEST
DTSTART:19700329T020000
RRULE:FREQ=YEARLY;BYDAY=-1SU;BYMONTH=3
END:DAYLIGHT
BEGIN:STANDARD
TZOFFSETFROM:+0200
TZOFFSETTO:+0100
TZNAME:CET
DTSTART:19701025T030000
RRULE:FREQ=YEARLY;BYDAY=-1SU;BYMONTH=10
END:STANDARD
END:VTIMEZONE
BEGIN:VEVENT
DTEND;TZID=Europe/Berlin:20260609T000000
UID:69ebe1ae55b5e
DTSTAMP:20260424T233334
LOCATION:
DESCRIPTION:Zusammen wollen wir die Türkei bzw. die türkische Stadt Nilüfer kennenlernen und gleichzeitig den türkischen Austauschpartner:innen die tollen Ecken Schweinfurts zeigen. Wir entdecken das echte türkische Leben\, fahren ans Meer zum Sonnenuntergang und probieren in Bars türkischen Kaffee und erfahren welche Unterschiede und Gemeinsamkeiten die deutsche und türkische Kultur besitzen. \r\n\r\nDie Internationale Jugendbegegnung mit der türkischen Stadt Nilüfer ist sowohl Urlaubsvibe als auch Bildungsfahrt. Auf der einen Seite besuchen wir Basare in der Türkei\, klettern am Schweinfurter Baggersee\, essen traditionelle Fischgerichte am Meer\, besuchen eine lokale Brauerei\, schauen uns das Fussballtraining des 1. FC Schweinfurt 1905 an\, nutzen selbstbestimmt unsere Zeit bei Sonne in guter Gemeinschaft mit anderen Jugendlichen und jungen Erwachsenen zwischen 16 und 27 Jahren\, und und und  \r\nAuf der anderen Seite wollen wir ins Gespräch kommen über Demokratie\, Partizipation\, Vielfalt und Nachhaltigkeit. Wo können wir etwas von den Türk:innen lernen? Wo können Sie sich etwas von uns abschauen? Wir werden in interaktiven Workshops\, Planspielen oder Ausflügen gemeinsam diskutieren\, neue Perspektiven entwickeln und so unsere Welt ein wenig besser machen. Es geht nicht ums lernen wie in der Schule\, sondern um den gemeinsamen interkulturellen Austausch für eine gute Zukunft!\r\n\r\nWenn du Lust hast dein 2026 zu einem besonderen Jahr zu machen\, nutze deine Chance und erlebe mir dem Stadtjugendring Schweinfurt eine spannende Gastgeber-Woche in Schweinfurt\, bevor wir zusammen im Hochsommer in die Türkei fliegen.\r\n\r\nMelde dich jetzt bis zum 30.04.2026 über unser online-Formular an:\r\nhttps://forms.cloud.microsoft/r/YVXXPV3Whq?origin=lprLink\r\n\r\nAyfer Rethschulte\, Luca Häusler und Elina Letyagin: \r\n„Wir freuen uns auf dich! – Sizleri aramizda gömekten mutluluk duyariz“\r\n\r\nÜbernachtung im Hotel\, Verpflegung „all inclusive“\, Ausflüge\, Workshops\, Eintrittspreise\, Betreuung. 
URL;VALUE=URI:https://www.unser-ferienprogramm.de/schweinfurt/veranstaltung.php?id=304632
SUMMARY:Deutsch-Türkische Jugendbegegnung --- Anmeldung direkt beim Veranstalter!
DTSTART;TZID=Europe/Berlin:20260603T000000
END:VEVENT


BEGIN:VEVENT
DTEND;TZID=Europe/Berlin:20260823T000000
UID:69ebe1ae55ba41
DTSTAMP:20260424T233334
LOCATION:
DESCRIPTION:Zusammen wollen wir die Türkei bzw. die türkische Stadt Nilüfer kennenlernen und gleichzeitig den türkischen Austauschpartner:innen die tollen Ecken Schweinfurts zeigen. Wir entdecken das echte türkische Leben\, fahren ans Meer zum Sonnenuntergang und probieren in Bars türkischen Kaffee und erfahren welche Unterschiede und Gemeinsamkeiten die deutsche und türkische Kultur besitzen. \r\n\r\nDie Internationale Jugendbegegnung mit der türkischen Stadt Nilüfer ist sowohl Urlaubsvibe als auch Bildungsfahrt. Auf der einen Seite besuchen wir Basare in der Türkei\, klettern am Schweinfurter Baggersee\, essen traditionelle Fischgerichte am Meer\, besuchen eine lokale Brauerei\, schauen uns das Fussballtraining des 1. FC Schweinfurt 1905 an\, nutzen selbstbestimmt unsere Zeit bei Sonne in guter Gemeinschaft mit anderen Jugendlichen und jungen Erwachsenen zwischen 16 und 27 Jahren\, und und und  \r\nAuf der anderen Seite wollen wir ins Gespräch kommen über Demokratie\, Partizipation\, Vielfalt und Nachhaltigkeit. Wo können wir etwas von den Türk:innen lernen? Wo können Sie sich etwas von uns abschauen? Wir werden in interaktiven Workshops\, Planspielen oder Ausflügen gemeinsam diskutieren\, neue Perspektiven entwickeln und so unsere Welt ein wenig besser machen. Es geht nicht ums lernen wie in der Schule\, sondern um den gemeinsamen interkulturellen Austausch für eine gute Zukunft!\r\n\r\nWenn du Lust hast dein 2026 zu einem besonderen Jahr zu machen\, nutze deine Chance und erlebe mir dem Stadtjugendring Schweinfurt eine spannende Gastgeber-Woche in Schweinfurt\, bevor wir zusammen im Hochsommer in die Türkei fliegen.\r\n\r\nMelde dich jetzt bis zum 30.04.2026 über unser online-Formular an:\r\nhttps://forms.cloud.microsoft/r/YVXXPV3Whq?origin=lprLink\r\n\r\nAyfer Rethschulte\, Luca Häusler und Elina Letyagin: \r\n„Wir freuen uns auf dich! – Sizleri aramizda gömekten mutluluk duyariz“\r\n\r\nÜbernachtung im Hotel\, Verpflegung „all inclusive“\, Ausflüge\, Workshops\, Eintrittspreise\, Betreuung. 
URL;VALUE=URI:https://www.unser-ferienprogramm.de/schweinfurt/veranstaltung.php?id=304632
SUMMARY:Deutsch-Türkische Jugendbegegnung --- Anmeldung direkt beim Veranstalter!
DTSTART;TZID=Europe/Berlin:20260817T000000
END:VEVENT

END:VCALENDAR
