BEGIN:VCALENDAR
VERSION:2.0
PRODID:-//hacksw/handcal//NONSGML v1.0//EN
CALSCALE:GREGORIAN
BEGIN:VTIMEZONE
TZID:Europe/Berlin
X-LIC-LOCATION:Europe/Berlin
BEGIN:DAYLIGHT
TZOFFSETFROM:+0100
TZOFFSETTO:+0200
TZNAME:CEST
DTSTART:19700329T020000
RRULE:FREQ=YEARLY;BYDAY=-1SU;BYMONTH=3
END:DAYLIGHT
BEGIN:STANDARD
TZOFFSETFROM:+0200
TZOFFSETTO:+0100
TZNAME:CET
DTSTART:19701025T030000
RRULE:FREQ=YEARLY;BYDAY=-1SU;BYMONTH=10
END:STANDARD
END:VTIMEZONE
BEGIN:VEVENT
DTEND;TZID=Europe/Berlin:20260603T160000
UID:69ebe1671d3fd
DTSTAMP:20260424T233223
LOCATION:Schweinfurt\, Haardt Wald
DESCRIPTION:Dir selbst auf der Spur - Einfach mal sein!\r\n\r\nDu kennst das auch? Kaum haben die Ferien begonnen\, sind sie fast schon wieder vorbei und nächste Woche geht's schon wieder los. Du hast schon jede Menge erlebt und das Faulenzen macht auch nicht mehr so richtig Spaß? Dann nix wie raus mit uns in den Wald- Langeweile und Stress sind hier weit weg. Alles kann\, nichts muss.\r\n\r\nDie Natur zeigt Dir was gerade nötig ist und Du kannst lernen was zu tun ist. Genauso gut kannst Du auch mal eine Pause machen & beobachten was um Dich herum passiert - und das ist eine Menge!\r\n\r\nHeute bist nur Du & was gerade für Dich passt gefragt!\r\n\r\nBitte bring dir etwas zu Trinken (am besten Wasser)\, eine kleine Brotzeit\, witterungsgerechte Kleidung\, feste Schuhe und den Selbstauskunftsbogen mit. Diesen erhalten deine Eltern vor Beginn des Angebots.\r\n\r\nVeranstalter:\r\nMarco Beringer
URL;VALUE=URI:https://www.unser-ferienprogramm.de/schweinfurt/veranstaltung.php?id=296450
SUMMARY:Lust auf Abenteuer? - Dem Wald auf der Spur... II
DTSTART;TZID=Europe/Berlin:20260603T100000
END:VEVENT

END:VCALENDAR
