BEGIN:VCALENDAR
VERSION:2.0
PRODID:-//hacksw/handcal//NONSGML v1.0//EN
CALSCALE:GREGORIAN
BEGIN:VTIMEZONE
TZID:Europe/Berlin
X-LIC-LOCATION:Europe/Berlin
BEGIN:DAYLIGHT
TZOFFSETFROM:+0100
TZOFFSETTO:+0200
TZNAME:CEST
DTSTART:19700329T020000
RRULE:FREQ=YEARLY;BYDAY=-1SU;BYMONTH=3
END:DAYLIGHT
BEGIN:STANDARD
TZOFFSETFROM:+0200
TZOFFSETTO:+0100
TZNAME:CET
DTSTART:19701025T030000
RRULE:FREQ=YEARLY;BYDAY=-1SU;BYMONTH=10
END:STANDARD
END:VTIMEZONE
BEGIN:VEVENT
DTEND;TZID=Europe/Berlin:20260718T160000
UID:69ebf363bc843
DTSTAMP:20260425T004907
LOCATION:Mainschleife Volkach
DESCRIPTION:Spaß am Paddeln? Das machen wir auf der Mainschleife bei Volkach\, die wohl letzte freie Fließstrecke des schiffbaren Mains. Ohne die Risiken\, die von der Berufsschifffahrt ausgehen\, könnt ihr hier gefahrlos rumschippern\, mit Boot und Strömung spielen\, euch jagen\, auf und im Wasser vergnügen. \r\nBitte an entsprechende Kleidung und Schuhe sowie Sonnenschutz denken.\r\n\r\nVoraussetzung für die Teilnahme ist das Schwimmabzeichen in Bronze! Bitte Nachweis am Aktionstag beim Treffpunkt vorlegen. Das Angebot ist wetterabhängig. Regen\, aber auch kühle\, windige Verhältnisse oder Hochwasser können uns zur Absage einer Tour zwingen. \r\n\r\nDas solltest du mitbringen:\r\n\r\nSchwimmabzeichen in Bronze\r\nkleiner Snack und Getränk\r\nSonnenschutz\r\nBadesachen\r\nHandtuch\r\nWechselkleidung\r\n\r\nAuf dem Wasser ist Funktionskleidung und bei kühler Temperatur eine leichte Regenjacke die erste Wahl. Baumwollkleidung saugt sich mit Wasser voll\, trocknet schlecht und erhöht damit die Gefahr der Unterkühlung. Ebenso raten wir dringend zu wassertauglicher Fußbekleidung. Glasscherben\, verrostete Blechdosen\, spitze Steine am Ufer und auf dem Flussgrund stellen ein Verletzungsrisiko dar. Ein Paar alte Turnschuhe (die nass werden dürfen) tun es übrigens auch. 
URL;VALUE=URI:https://www.unser-ferienprogramm.de/schweinfurt/veranstaltung.php?id=296058
SUMMARY:ABGESAGT ---- Kanutour für Kids auf dem Main – Auch für Anfänger geeignet III
DTSTART;TZID=Europe/Berlin:20260718T100000
END:VEVENT

END:VCALENDAR
