BEGIN:VCALENDAR
VERSION:2.0
PRODID:-//hacksw/handcal//NONSGML v1.0//EN
CALSCALE:GREGORIAN
BEGIN:VTIMEZONE
TZID:Europe/Berlin
X-LIC-LOCATION:Europe/Berlin
BEGIN:DAYLIGHT
TZOFFSETFROM:+0100
TZOFFSETTO:+0200
TZNAME:CEST
DTSTART:19700329T020000
RRULE:FREQ=YEARLY;BYDAY=-1SU;BYMONTH=3
END:DAYLIGHT
BEGIN:STANDARD
TZOFFSETFROM:+0200
TZOFFSETTO:+0100
TZNAME:CET
DTSTART:19701025T030000
RRULE:FREQ=YEARLY;BYDAY=-1SU;BYMONTH=10
END:STANDARD
END:VTIMEZONE
BEGIN:VEVENT
DTEND;TZID=Europe/Berlin:20260502T120000
UID:69ebe1fc10282
DTSTAMP:20260424T233452
LOCATION:VHS Schweinfurt
DESCRIPTION:In diesem Malkurs geht es bunt und lustig zu. Das Besondere dabei ist\, dass ein Elternteil und Kind Seite an Seite arbeiten. So wird dieser Malkurs für alle zu einem ganz besonderen Erlebnis. Mit unterschiedlichen Materialien erarbeiten die kleinen und großen Künstler/innen unter kunstpädagogischer Anleitung ihre ganz persönlichen Kunstwerke. Für Happy Painting braucht es keinerlei Vorkenntnisse\, mit viel Spaß werden die nötigen Mal- und Zeichengrundlagen erlernt\, um tolle Bilder zu schaffen. \r\n\r\nBitte mitbringen: Bleistift\, Filzstifte (dick und dünn)\, Buntstifte\, Din A4 Zeichenkarton\, Schere\, Klebestift.\r\n\r\n3\,50 € Materialkosten werden im Kurs eingesammelt. Vorlagen und Skript werden zur Verfügung gestellt.\r\n\r\n\r\nAnmeldung und Informationen direkt über die VHS \r\n
URL;VALUE=URI:https://www.unser-ferienprogramm.de/schweinfurt/veranstaltung.php?id=296050
SUMMARY:Happy Painting für Kinder (6-12 Jahre) mit einem/einer Erwachsenen
DTSTART;TZID=Europe/Berlin:20260502T100000
END:VEVENT

END:VCALENDAR
