BEGIN:VCALENDAR
VERSION:2.0
PRODID:-//hacksw/handcal//NONSGML v1.0//EN
CALSCALE:GREGORIAN
BEGIN:VTIMEZONE
TZID:Europe/Berlin
X-LIC-LOCATION:Europe/Berlin
BEGIN:DAYLIGHT
TZOFFSETFROM:+0100
TZOFFSETTO:+0200
TZNAME:CEST
DTSTART:19700329T020000
RRULE:FREQ=YEARLY;BYDAY=-1SU;BYMONTH=3
END:DAYLIGHT
BEGIN:STANDARD
TZOFFSETFROM:+0200
TZOFFSETTO:+0100
TZNAME:CET
DTSTART:19701025T030000
RRULE:FREQ=YEARLY;BYDAY=-1SU;BYMONTH=10
END:STANDARD
END:VTIMEZONE
BEGIN:VEVENT
DTEND;TZID=Europe/Berlin:20260529T000000
UID:69ebce5e11d6c
DTSTAMP:20260424T221110
LOCATION:Pfadfinderzeltplatz Euerbach
DESCRIPTION:Du hast Lust auf spannende Ferien in der Natur\, dann bist du bei uns genau richtig. Es erwarten dich Sommernächte mit Gitarre\, Aktionen durch Wald und Wiese\, sowie Ausflüge\, Workshops und Spiele. Sei schnell und melde dich bei uns an\, denn die Plätze sind begrenzt.\r\n\r\nWeitere Informationen bekommst du nach der Anmeldung.\r\n\r\nIm Preis enthalten sind:\r\nVerpflegung (Essen\, Getränke)\r\nBusfahrt\,\r\nKosten für Ausflüge und Eintritt\r\n\r\nAnmeldung per E-Mail unter Pfarrjugend-St.Anton@gmx.de\r\nAnmeldeschluss ist der 12.04.2026.\r\n\r\nVeranstalter:\r\nPfarrjugend St. Anton
URL;VALUE=URI:https://www.unser-ferienprogramm.de/schweinfurt/veranstaltung.php?id=296026
SUMMARY:Zeltlager Pfarrjugend St. Anton
DTSTART;TZID=Europe/Berlin:20260523T000000
END:VEVENT

END:VCALENDAR
