BEGIN:VCALENDAR
VERSION:2.0
PRODID:-//hacksw/handcal//NONSGML v1.0//EN
CALSCALE:GREGORIAN
BEGIN:VTIMEZONE
TZID:Europe/Berlin
X-LIC-LOCATION:Europe/Berlin
BEGIN:DAYLIGHT
TZOFFSETFROM:+0100
TZOFFSETTO:+0200
TZNAME:CEST
DTSTART:19700329T020000
RRULE:FREQ=YEARLY;BYDAY=-1SU;BYMONTH=3
END:DAYLIGHT
BEGIN:STANDARD
TZOFFSETFROM:+0200
TZOFFSETTO:+0100
TZNAME:CET
DTSTART:19701025T030000
RRULE:FREQ=YEARLY;BYDAY=-1SU;BYMONTH=10
END:STANDARD
END:VTIMEZONE
BEGIN:VEVENT
DTEND;TZID=Europe/Berlin:20260531T110000
UID:69ebce1e07c58
DTSTAMP:20260424T221006
LOCATION:Bischofsheim an der Rhön
DESCRIPTION:Bereit für eine Woche voller Abenteuer?\r\n\r\nKomm mit uns in die Rhön – direkt an den Fuß des Kreuzbergs! Dich erwarten coole Spiele\, knisternde Lagerfeuer\, kreatives Basteln und jede Menge Spaß. Ob wir gemeinsam am Feuer singen oder durch die Wälder streifen – für jede*n ist etwas dabei. Wir freuen uns riesig auf eine unvergessliche Zeit mit dir!\r\n\r\nWo wir wohnen:\r\n\r\nIm Selbstversorgerhaus Rhönheim Haselbach – mit leckerer Vollverpflegung (auf Wunsch auch vegetarisch).\r\n\r\nDas solltest du unbedingt einpacken:\r\n\r\nBettzeug (Bettlaken\, Kissen\, Decke/Schlafsack)\r\nBequeme und warme Kleidung – auch für Regen!\r\nWaschsachen (Zahnbürste\, Duschzeug\, Handtuch usw.)\r\nRucksack & Trinkflasche\r\nFeste Schuhe und Hausschuhe\r\n\r\nNoch Fragen oder Lust bekommen?\r\nWeitere Infos und das Anmeldeformular bekommst du per Mail unter:\r\npfarrjugend.christkoenig@gmail.com\r\n\r\nWir freuen uns auf dich!\r\n\r\nVeranstalter:\r\nPfarrjugend Christkönig
URL;VALUE=URI:https://www.unser-ferienprogramm.de/schweinfurt/veranstaltung.php?id=296010
SUMMARY:Pfingstlager 2026
DTSTART;TZID=Europe/Berlin:20260525T170000
END:VEVENT

END:VCALENDAR
