BEGIN:VCALENDAR
VERSION:2.0
PRODID:-//hacksw/handcal//NONSGML v1.0//EN
CALSCALE:GREGORIAN
BEGIN:VTIMEZONE
TZID:Europe/Berlin
X-LIC-LOCATION:Europe/Berlin
BEGIN:DAYLIGHT
TZOFFSETFROM:+0100
TZOFFSETTO:+0200
TZNAME:CEST
DTSTART:19700329T020000
RRULE:FREQ=YEARLY;BYDAY=-1SU;BYMONTH=3
END:DAYLIGHT
BEGIN:STANDARD
TZOFFSETFROM:+0200
TZOFFSETTO:+0100
TZNAME:CET
DTSTART:19701025T030000
RRULE:FREQ=YEARLY;BYDAY=-1SU;BYMONTH=10
END:STANDARD
END:VTIMEZONE
BEGIN:VEVENT
DTEND;TZID=Europe/Berlin:20260803T090000
UID:69ebdef049295
DTSTAMP:20260424T232152
LOCATION:Friedrich-Rückert-Grundschule
DESCRIPTION:Die Arbeit ruft und Sie haben morgens noch keine Betreuung für Ihr(e) Kind(er)?\r\nDann ist unsere Frühbetreuung genau das Richtige!\r\n\r\nWenn Ihr Kind am Minecraft–Robotik-Camp teilnimmt\, können Sie es ganz unkompliziert zusätzlich für die Frühbetreuung anmelden – und schon ist das Betreuungsproblem gelöst.\r\n\r\nWir kümmern uns zuverlässig und sorgen für einen entspannten Start in den Camp-Tag.\r\n\r\nVeranstalter:\r\nLiga der Roboter in Kooperation mit der Kommunalen Jugendarbeit der Stadt Schweinfurt
URL;VALUE=URI:https://www.unser-ferienprogramm.de/schweinfurt/veranstaltung.php?id=295999
SUMMARY:Minecraft - Robotik Camp !!FRÜHBETREUUNG!!
DTSTART;TZID=Europe/Berlin:20260803T080000
END:VEVENT


BEGIN:VEVENT
DTEND;TZID=Europe/Berlin:20260804T090000
UID:69ebdef0492ae1
DTSTAMP:20260424T232152
LOCATION:Friedrich-Rückert-Grundschule
DESCRIPTION:Die Arbeit ruft und Sie haben morgens noch keine Betreuung für Ihr(e) Kind(er)?\r\nDann ist unsere Frühbetreuung genau das Richtige!\r\n\r\nWenn Ihr Kind am Minecraft–Robotik-Camp teilnimmt\, können Sie es ganz unkompliziert zusätzlich für die Frühbetreuung anmelden – und schon ist das Betreuungsproblem gelöst.\r\n\r\nWir kümmern uns zuverlässig und sorgen für einen entspannten Start in den Camp-Tag.\r\n\r\nVeranstalter:\r\nLiga der Roboter in Kooperation mit der Kommunalen Jugendarbeit der Stadt Schweinfurt
URL;VALUE=URI:https://www.unser-ferienprogramm.de/schweinfurt/veranstaltung.php?id=295999
SUMMARY:Minecraft - Robotik Camp !!FRÜHBETREUUNG!!
DTSTART;TZID=Europe/Berlin:20260804T080000
END:VEVENT


BEGIN:VEVENT
DTEND;TZID=Europe/Berlin:20260805T090000
UID:69ebdef0492bb2
DTSTAMP:20260424T232152
LOCATION:Friedrich-Rückert-Grundschule
DESCRIPTION:Die Arbeit ruft und Sie haben morgens noch keine Betreuung für Ihr(e) Kind(er)?\r\nDann ist unsere Frühbetreuung genau das Richtige!\r\n\r\nWenn Ihr Kind am Minecraft–Robotik-Camp teilnimmt\, können Sie es ganz unkompliziert zusätzlich für die Frühbetreuung anmelden – und schon ist das Betreuungsproblem gelöst.\r\n\r\nWir kümmern uns zuverlässig und sorgen für einen entspannten Start in den Camp-Tag.\r\n\r\nVeranstalter:\r\nLiga der Roboter in Kooperation mit der Kommunalen Jugendarbeit der Stadt Schweinfurt
URL;VALUE=URI:https://www.unser-ferienprogramm.de/schweinfurt/veranstaltung.php?id=295999
SUMMARY:Minecraft - Robotik Camp !!FRÜHBETREUUNG!!
DTSTART;TZID=Europe/Berlin:20260805T080000
END:VEVENT


BEGIN:VEVENT
DTEND;TZID=Europe/Berlin:20260806T090000
UID:69ebdef0492c63
DTSTAMP:20260424T232152
LOCATION:Friedrich-Rückert-Grundschule
DESCRIPTION:Die Arbeit ruft und Sie haben morgens noch keine Betreuung für Ihr(e) Kind(er)?\r\nDann ist unsere Frühbetreuung genau das Richtige!\r\n\r\nWenn Ihr Kind am Minecraft–Robotik-Camp teilnimmt\, können Sie es ganz unkompliziert zusätzlich für die Frühbetreuung anmelden – und schon ist das Betreuungsproblem gelöst.\r\n\r\nWir kümmern uns zuverlässig und sorgen für einen entspannten Start in den Camp-Tag.\r\n\r\nVeranstalter:\r\nLiga der Roboter in Kooperation mit der Kommunalen Jugendarbeit der Stadt Schweinfurt
URL;VALUE=URI:https://www.unser-ferienprogramm.de/schweinfurt/veranstaltung.php?id=295999
SUMMARY:Minecraft - Robotik Camp !!FRÜHBETREUUNG!!
DTSTART;TZID=Europe/Berlin:20260806T080000
END:VEVENT


BEGIN:VEVENT
DTEND;TZID=Europe/Berlin:20260807T090000
UID:69ebdef0492cf4
DTSTAMP:20260424T232152
LOCATION:Friedrich-Rückert-Grundschule
DESCRIPTION:Die Arbeit ruft und Sie haben morgens noch keine Betreuung für Ihr(e) Kind(er)?\r\nDann ist unsere Frühbetreuung genau das Richtige!\r\n\r\nWenn Ihr Kind am Minecraft–Robotik-Camp teilnimmt\, können Sie es ganz unkompliziert zusätzlich für die Frühbetreuung anmelden – und schon ist das Betreuungsproblem gelöst.\r\n\r\nWir kümmern uns zuverlässig und sorgen für einen entspannten Start in den Camp-Tag.\r\n\r\nVeranstalter:\r\nLiga der Roboter in Kooperation mit der Kommunalen Jugendarbeit der Stadt Schweinfurt
URL;VALUE=URI:https://www.unser-ferienprogramm.de/schweinfurt/veranstaltung.php?id=295999
SUMMARY:Minecraft - Robotik Camp !!FRÜHBETREUUNG!!
DTSTART;TZID=Europe/Berlin:20260807T080000
END:VEVENT

END:VCALENDAR
