BEGIN:VCALENDAR
VERSION:2.0
PRODID:-//hacksw/handcal//NONSGML v1.0//EN
CALSCALE:GREGORIAN
BEGIN:VTIMEZONE
TZID:Europe/Berlin
X-LIC-LOCATION:Europe/Berlin
BEGIN:DAYLIGHT
TZOFFSETFROM:+0100
TZOFFSETTO:+0200
TZNAME:CEST
DTSTART:19700329T020000
RRULE:FREQ=YEARLY;BYDAY=-1SU;BYMONTH=3
END:DAYLIGHT
BEGIN:STANDARD
TZOFFSETFROM:+0200
TZOFFSETTO:+0100
TZNAME:CET
DTSTART:19701025T030000
RRULE:FREQ=YEARLY;BYDAY=-1SU;BYMONTH=10
END:STANDARD
END:VTIMEZONE
BEGIN:VEVENT
DTEND;TZID=Europe/Berlin:20260501T150000
UID:69ebce1ea95e4
DTSTAMP:20260424T221006
LOCATION:Schweinfurt
DESCRIPTION:"Viele Wege - ein Ziel" - das macht die 1.Mai-Tour aus.\r\n\r\nDenn neben unterschiedlichen Fahrradrouten gibt es auch die Möglichkeit zu Fuß ans Ziel zu gelangen. Gemeinsam starten wir im Stadtgebiet und alle können sich den Routen zwischen 5 km Wandern und 15-35 km Fahrradfahren zuordnen. Am Ziel angekommen\, gibt es eine Stärkung für alle und auch etwas fürs Herz. \r\n\r\nGenauere Infos zum Start-/Zielort und Routen auf der Homepage des CVJM unter www.cvjm-schweinfurt.de.\r\n\r\nVeranstalter:\r\nCVJM Schweinfurt
URL;VALUE=URI:https://www.unser-ferienprogramm.de/schweinfurt/veranstaltung.php?id=295992
SUMMARY:CVJM Mai-Rad- & Wandertour
DTSTART;TZID=Europe/Berlin:20260501T100000
END:VEVENT

END:VCALENDAR
