BEGIN:VCALENDAR
VERSION:2.0
PRODID:-//hacksw/handcal//NONSGML v1.0//EN
CALSCALE:GREGORIAN
BEGIN:VTIMEZONE
TZID:Europe/Berlin
X-LIC-LOCATION:Europe/Berlin
BEGIN:DAYLIGHT
TZOFFSETFROM:+0100
TZOFFSETTO:+0200
TZNAME:CEST
DTSTART:19700329T020000
RRULE:FREQ=YEARLY;BYDAY=-1SU;BYMONTH=3
END:DAYLIGHT
BEGIN:STANDARD
TZOFFSETFROM:+0200
TZOFFSETTO:+0100
TZNAME:CET
DTSTART:19701025T030000
RRULE:FREQ=YEARLY;BYDAY=-1SU;BYMONTH=10
END:STANDARD
END:VTIMEZONE
BEGIN:VEVENT
DTEND;TZID=Europe/Berlin:20260810T160000
UID:69ebe22fb2d36
DTSTAMP:20260424T233543
LOCATION:Verkehrsgarten Schweinfurt
DESCRIPTION:Ferienprogramm mal ganz anders: Skiken (Skiroller) – der neue Trendsport\r\n\r\nBei diesem Event haben die Eltern die Möglichkeit mit ihrem Kind/Kindern das Ferienprogramm gemeinsam zu genießen. Natürlich können die Kinder auch ohne Eltern kommen. \r\n\r\nAuf den Spuren der Biathleten lernt ihr mit Spiel und Spaß das Skiken. Jeder kann diesen Sport erlernen. Zum Abschluss unseres 3-stündigen Programms veranstalten wir ein kleines Biathlon\, bei dem wir bei einem Staffellauf mit Lasergewehren auf Zielscheiben schießen (die Gewehre müssen aber nicht mitgetragen werden – sie liegen am Schießplatz bereit).\r\nDamit unser Kooperationspartner für jeden Teilnehmenden die Skikes optimal einstellen kann\, benötigen wir die Schuh- und Körpergröße\, sowie das Körpergewicht. Dafür bitten wir Sie (nach der Zuteilung)\, das Infoblatt „Skiken“ herunterzuladen\, auszufüllen und an uns zurückzusenden. \r\n\r\nEin Helm\, Knie-\, Ellenbogen- und Handgelenksschoner sind zwingende Voraussetzung. Bitte bringe festes Schuhwerk (z. B. Trekking- oder Wanderschuhe)\, wenn möglich Fahrradhandschuhe und Regenbekleidung mit. Wir empfehlen zudem einen kleinen Snack und ein Getränk für die Stärkung zwischendurch mitzubringen.\r\n\r\nVeranstalter:\r\nlike2skike\r\nErich Kreutner
URL;VALUE=URI:https://www.unser-ferienprogramm.de/schweinfurt/veranstaltung.php?id=295978
SUMMARY:Skike/Skiroller Einsteigerkurs mit Biathlon (auch mit Eltern) III
DTSTART;TZID=Europe/Berlin:20260810T130000
END:VEVENT

END:VCALENDAR
