BEGIN:VCALENDAR
VERSION:2.0
PRODID:-//hacksw/handcal//NONSGML v1.0//EN
CALSCALE:GREGORIAN
BEGIN:VTIMEZONE
TZID:Europe/Berlin
X-LIC-LOCATION:Europe/Berlin
BEGIN:DAYLIGHT
TZOFFSETFROM:+0100
TZOFFSETTO:+0200
TZNAME:CEST
DTSTART:19700329T020000
RRULE:FREQ=YEARLY;BYDAY=-1SU;BYMONTH=3
END:DAYLIGHT
BEGIN:STANDARD
TZOFFSETFROM:+0200
TZOFFSETTO:+0100
TZNAME:CET
DTSTART:19701025T030000
RRULE:FREQ=YEARLY;BYDAY=-1SU;BYMONTH=10
END:STANDARD
END:VTIMEZONE
BEGIN:VEVENT
DTEND;TZID=Europe/Berlin:20260808T000000
UID:69ebdeb80681e
DTSTAMP:20260424T232056
LOCATION:Jugendzeltplatz Ingolstadt
DESCRIPTION:Zeltlager-Abenteuer 2026 – Sei dabei!\r\n\r\nDieses Jahr erwartet dich etwas ganz Besonderes: Unser erstes Zeltlager auf dem coolen Jugendzeltplatz in Ingolstadt! Gemeinsam bauen wir unser Lager auf und erleben ein abwechslungsreiches Programm\, das wir selbst für euch vorbereiten.\r\n\r\nFreu dich auf spannende Ausflüge\, lustige Spiele\, Action auf dem Platz\, gemütliche Lagerfeuer-Abende und viele Überraschungen! Geschlafen wird in Zelten – nach Alter und Jungs/Mädchen getrennt – und natürlich passen unsere ausgebildeten Gruppenleiter/innen sowie ein super Küchenteam gut auf euch auf.\r\n\r\nWichtige Infos:\r\n\r\nAnmeldung ab Januar per E-Mail:\r\njugend.maxkolbe.schweinfurt@gmx.de\r\n(nur solange Plätze im Bus frei sind)\r\n\r\nWer kann mitfahren?\r\nKinder und Jugendliche von 9 bis 15 Jahren\r\n\r\nDas ist alles dabei:\r\nLeckeres Essen den ganzen Tag\r\nÜbernachtung im Zelt\r\nHin- und Rückfahrt\r\nAusflüge & buntes Programm\r\nBetreuung durch geschulte Gruppenleiter/innen\r\n\r\nAusrüstung:\r\nEine Packliste bekommst du zusammen mit der Anmeldung.\r\n\r\nMach dich bereit für eine unvergessliche Woche voller Spaß\, Abenteuer und neuer Freunde!\r\n\r\nVeranstalter:\r\nJugend St. Maximilian Kolbe Schweinfurt
URL;VALUE=URI:https://www.unser-ferienprogramm.de/schweinfurt/veranstaltung.php?id=295952
SUMMARY:Sommerzeltlager Jugend St. Max. Kolbe
DTSTART;TZID=Europe/Berlin:20260802T000000
END:VEVENT

END:VCALENDAR
