BEGIN:VCALENDAR
VERSION:2.0
PRODID:-//hacksw/handcal//NONSGML v1.0//EN
CALSCALE:GREGORIAN
BEGIN:VTIMEZONE
TZID:Europe/Berlin
X-LIC-LOCATION:Europe/Berlin
BEGIN:DAYLIGHT
TZOFFSETFROM:+0100
TZOFFSETTO:+0200
TZNAME:CEST
DTSTART:19700329T020000
RRULE:FREQ=YEARLY;BYDAY=-1SU;BYMONTH=3
END:DAYLIGHT
BEGIN:STANDARD
TZOFFSETFROM:+0200
TZOFFSETTO:+0100
TZNAME:CET
DTSTART:19701025T030000
RRULE:FREQ=YEARLY;BYDAY=-1SU;BYMONTH=10
END:STANDARD
END:VTIMEZONE
BEGIN:VEVENT
DTEND;TZID=Europe/Berlin:20260803T160000
UID:69ebdfba244a1
DTSTAMP:20260424T232514
LOCATION:Georg-Wichtermann-Halle
DESCRIPTION:Du liebst Basketball – oder willst es einfach mal ausprobieren?\r\nDann bist du hier genau richtig! Beim BasKIDScamp trainierst du zusammen mit anderen Kindern in kleinen Gruppen – egal ob Anfänger oder Profi. Die erfahrenen Coaches zeigen dir Tricks\, coole Moves und Teamplay wie in der NBA!\r\n\r\nUnd falls du mal Abwechslung brauchst\, warten noch Fußball\, Hockey und Flag-Football auf dich. Hauptsache Bewegung\, Power und ganz viel Spaß!\r\n\r\nDamit es eine Woche wird\, die du nie vergisst\, gibt es:\r\nspannendes Training\r\nein cooles Pausenprogramm\r\nleckeres Mittagessen & Snacks\r\neine starke Camp-Ausrüstung (z. B. Trikot\, Beutel & Autogrammkarte)\r\n\r\nIm Preis enthalten:\r\n\r\n• Mittagessen (auch vegetarisch) & Getränke\r\n• Betreuung durch Sportpädagogen /-innen und qualifizierte Trainer /-innen\r\n• Camp-Ausstattung für jedes Kind\r\n• Ein abwechslungsreicher Tagesablauf mit tollen Sporteinheiten und betreuten Pausen\r\n\r\nBitte mitbringen:\r\n\r\n• Sportklamotten\r\n• Hallenschuhe und Outdoor-Sportschuhe\r\n\r\nBist du bereit für eine Woche voller Action\, Teamgeist und Sport? Dann ab ins BasKIDScamp!\r\n\r\nVeranstalter:\r\nFAF Kids gemeinnützige GmbH in Kooperation mit der Kommunalen Jugendarbeit der Stadt Schweinfurt
URL;VALUE=URI:https://www.unser-ferienprogramm.de/schweinfurt/veranstaltung.php?id=295908
SUMMARY:Maxi Kleber BasKIDScamp
DTSTART;TZID=Europe/Berlin:20260803T080000
END:VEVENT


BEGIN:VEVENT
DTEND;TZID=Europe/Berlin:20260804T160000
UID:69ebdfba244d91
DTSTAMP:20260424T232514
LOCATION:Georg-Wichtermann-Halle
DESCRIPTION:Du liebst Basketball – oder willst es einfach mal ausprobieren?\r\nDann bist du hier genau richtig! Beim BasKIDScamp trainierst du zusammen mit anderen Kindern in kleinen Gruppen – egal ob Anfänger oder Profi. Die erfahrenen Coaches zeigen dir Tricks\, coole Moves und Teamplay wie in der NBA!\r\n\r\nUnd falls du mal Abwechslung brauchst\, warten noch Fußball\, Hockey und Flag-Football auf dich. Hauptsache Bewegung\, Power und ganz viel Spaß!\r\n\r\nDamit es eine Woche wird\, die du nie vergisst\, gibt es:\r\nspannendes Training\r\nein cooles Pausenprogramm\r\nleckeres Mittagessen & Snacks\r\neine starke Camp-Ausrüstung (z. B. Trikot\, Beutel & Autogrammkarte)\r\n\r\nIm Preis enthalten:\r\n\r\n• Mittagessen (auch vegetarisch) & Getränke\r\n• Betreuung durch Sportpädagogen /-innen und qualifizierte Trainer /-innen\r\n• Camp-Ausstattung für jedes Kind\r\n• Ein abwechslungsreicher Tagesablauf mit tollen Sporteinheiten und betreuten Pausen\r\n\r\nBitte mitbringen:\r\n\r\n• Sportklamotten\r\n• Hallenschuhe und Outdoor-Sportschuhe\r\n\r\nBist du bereit für eine Woche voller Action\, Teamgeist und Sport? Dann ab ins BasKIDScamp!\r\n\r\nVeranstalter:\r\nFAF Kids gemeinnützige GmbH in Kooperation mit der Kommunalen Jugendarbeit der Stadt Schweinfurt
URL;VALUE=URI:https://www.unser-ferienprogramm.de/schweinfurt/veranstaltung.php?id=295908
SUMMARY:Maxi Kleber BasKIDScamp
DTSTART;TZID=Europe/Berlin:20260804T080000
END:VEVENT


BEGIN:VEVENT
DTEND;TZID=Europe/Berlin:20260805T160000
UID:69ebdfba244ee2
DTSTAMP:20260424T232514
LOCATION:Georg-Wichtermann-Halle
DESCRIPTION:Du liebst Basketball – oder willst es einfach mal ausprobieren?\r\nDann bist du hier genau richtig! Beim BasKIDScamp trainierst du zusammen mit anderen Kindern in kleinen Gruppen – egal ob Anfänger oder Profi. Die erfahrenen Coaches zeigen dir Tricks\, coole Moves und Teamplay wie in der NBA!\r\n\r\nUnd falls du mal Abwechslung brauchst\, warten noch Fußball\, Hockey und Flag-Football auf dich. Hauptsache Bewegung\, Power und ganz viel Spaß!\r\n\r\nDamit es eine Woche wird\, die du nie vergisst\, gibt es:\r\nspannendes Training\r\nein cooles Pausenprogramm\r\nleckeres Mittagessen & Snacks\r\neine starke Camp-Ausrüstung (z. B. Trikot\, Beutel & Autogrammkarte)\r\n\r\nIm Preis enthalten:\r\n\r\n• Mittagessen (auch vegetarisch) & Getränke\r\n• Betreuung durch Sportpädagogen /-innen und qualifizierte Trainer /-innen\r\n• Camp-Ausstattung für jedes Kind\r\n• Ein abwechslungsreicher Tagesablauf mit tollen Sporteinheiten und betreuten Pausen\r\n\r\nBitte mitbringen:\r\n\r\n• Sportklamotten\r\n• Hallenschuhe und Outdoor-Sportschuhe\r\n\r\nBist du bereit für eine Woche voller Action\, Teamgeist und Sport? Dann ab ins BasKIDScamp!\r\n\r\nVeranstalter:\r\nFAF Kids gemeinnützige GmbH in Kooperation mit der Kommunalen Jugendarbeit der Stadt Schweinfurt
URL;VALUE=URI:https://www.unser-ferienprogramm.de/schweinfurt/veranstaltung.php?id=295908
SUMMARY:Maxi Kleber BasKIDScamp
DTSTART;TZID=Europe/Berlin:20260805T080000
END:VEVENT


BEGIN:VEVENT
DTEND;TZID=Europe/Berlin:20260806T160000
UID:69ebdfba244fe3
DTSTAMP:20260424T232514
LOCATION:Georg-Wichtermann-Halle
DESCRIPTION:Du liebst Basketball – oder willst es einfach mal ausprobieren?\r\nDann bist du hier genau richtig! Beim BasKIDScamp trainierst du zusammen mit anderen Kindern in kleinen Gruppen – egal ob Anfänger oder Profi. Die erfahrenen Coaches zeigen dir Tricks\, coole Moves und Teamplay wie in der NBA!\r\n\r\nUnd falls du mal Abwechslung brauchst\, warten noch Fußball\, Hockey und Flag-Football auf dich. Hauptsache Bewegung\, Power und ganz viel Spaß!\r\n\r\nDamit es eine Woche wird\, die du nie vergisst\, gibt es:\r\nspannendes Training\r\nein cooles Pausenprogramm\r\nleckeres Mittagessen & Snacks\r\neine starke Camp-Ausrüstung (z. B. Trikot\, Beutel & Autogrammkarte)\r\n\r\nIm Preis enthalten:\r\n\r\n• Mittagessen (auch vegetarisch) & Getränke\r\n• Betreuung durch Sportpädagogen /-innen und qualifizierte Trainer /-innen\r\n• Camp-Ausstattung für jedes Kind\r\n• Ein abwechslungsreicher Tagesablauf mit tollen Sporteinheiten und betreuten Pausen\r\n\r\nBitte mitbringen:\r\n\r\n• Sportklamotten\r\n• Hallenschuhe und Outdoor-Sportschuhe\r\n\r\nBist du bereit für eine Woche voller Action\, Teamgeist und Sport? Dann ab ins BasKIDScamp!\r\n\r\nVeranstalter:\r\nFAF Kids gemeinnützige GmbH in Kooperation mit der Kommunalen Jugendarbeit der Stadt Schweinfurt
URL;VALUE=URI:https://www.unser-ferienprogramm.de/schweinfurt/veranstaltung.php?id=295908
SUMMARY:Maxi Kleber BasKIDScamp
DTSTART;TZID=Europe/Berlin:20260806T080000
END:VEVENT


BEGIN:VEVENT
DTEND;TZID=Europe/Berlin:20260807T160000
UID:69ebdfba2450d4
DTSTAMP:20260424T232514
LOCATION:Georg-Wichtermann-Halle
DESCRIPTION:Du liebst Basketball – oder willst es einfach mal ausprobieren?\r\nDann bist du hier genau richtig! Beim BasKIDScamp trainierst du zusammen mit anderen Kindern in kleinen Gruppen – egal ob Anfänger oder Profi. Die erfahrenen Coaches zeigen dir Tricks\, coole Moves und Teamplay wie in der NBA!\r\n\r\nUnd falls du mal Abwechslung brauchst\, warten noch Fußball\, Hockey und Flag-Football auf dich. Hauptsache Bewegung\, Power und ganz viel Spaß!\r\n\r\nDamit es eine Woche wird\, die du nie vergisst\, gibt es:\r\nspannendes Training\r\nein cooles Pausenprogramm\r\nleckeres Mittagessen & Snacks\r\neine starke Camp-Ausrüstung (z. B. Trikot\, Beutel & Autogrammkarte)\r\n\r\nIm Preis enthalten:\r\n\r\n• Mittagessen (auch vegetarisch) & Getränke\r\n• Betreuung durch Sportpädagogen /-innen und qualifizierte Trainer /-innen\r\n• Camp-Ausstattung für jedes Kind\r\n• Ein abwechslungsreicher Tagesablauf mit tollen Sporteinheiten und betreuten Pausen\r\n\r\nBitte mitbringen:\r\n\r\n• Sportklamotten\r\n• Hallenschuhe und Outdoor-Sportschuhe\r\n\r\nBist du bereit für eine Woche voller Action\, Teamgeist und Sport? Dann ab ins BasKIDScamp!\r\n\r\nVeranstalter:\r\nFAF Kids gemeinnützige GmbH in Kooperation mit der Kommunalen Jugendarbeit der Stadt Schweinfurt
URL;VALUE=URI:https://www.unser-ferienprogramm.de/schweinfurt/veranstaltung.php?id=295908
SUMMARY:Maxi Kleber BasKIDScamp
DTSTART;TZID=Europe/Berlin:20260807T080000
END:VEVENT

END:VCALENDAR
