BEGIN:VCALENDAR
VERSION:2.0
PRODID:-//hacksw/handcal//NONSGML v1.0//EN
CALSCALE:GREGORIAN
BEGIN:VTIMEZONE
TZID:Europe/Berlin
X-LIC-LOCATION:Europe/Berlin
BEGIN:DAYLIGHT
TZOFFSETFROM:+0100
TZOFFSETTO:+0200
TZNAME:CEST
DTSTART:19700329T020000
RRULE:FREQ=YEARLY;BYDAY=-1SU;BYMONTH=3
END:DAYLIGHT
BEGIN:STANDARD
TZOFFSETFROM:+0200
TZOFFSETTO:+0100
TZNAME:CET
DTSTART:19701025T030000
RRULE:FREQ=YEARLY;BYDAY=-1SU;BYMONTH=10
END:STANDARD
END:VTIMEZONE
BEGIN:VEVENT
DTEND;TZID=Europe/Berlin:20260803T160000
UID:69ebdeea4f9ea
DTSTAMP:20260424T232146
LOCATION:Kerschensteiner Grundschule Schweinfurt
DESCRIPTION:Hey du!\r\nHast du Lust auf eine richtig tolle Ferienwoche mit Spiel\, Spaß\, Bewegung und vielen neuen Freunden?\r\nDann bist du bei „Kids @ Ferienglück“ genau richtig!\r\n\r\nGemeinsam erleben wir spannende Tage – voller Abenteuer\, kreativer Ideen und lustiger Aktionen. Und das Beste: Du darfst mitentscheiden\, was wir machen!\r\n\r\nWas dich erwartet:\r\n\r\nBasteln und kreativ sein: Du kannst malen\, bauen und richtig tolle Sachen gestalten.\r\nBewegung und Spiele: Wir toben uns aus\, spielen coole Spiele und machen Sport.\r\nAbenteuer in der Natur: Im Wald und auf Wiesen lösen wir Teamaufgaben und entdecken spannende Dinge.\r\n\r\nUnsere Stadt erkunden: Wir schauen uns Schweinfurt mal ganz anders an – mit vielen tollen Überraschungen!\r\n\r\nUnd jeden Tag lernst du dabei auch etwas über dich: Was macht dich glücklich? Was kannst du richtig gut? Was hilft dir\, stark zu sein?\r\n\r\nWas du bekommst:\r\n- tolle Betreuung von netten Erwachsenen\r\n- leckeres Mittagessen (auch vegetarisch jedoch nicht vegan)\r\n- Wasser oder Tee zum Trinken\r\n\r\nWas du mitbringen solltest:\r\n- deine Trinkflasche (gefüllt)\r\n- bequeme Kleidung und Schuhe zum Bewegen\r\n- Wechselkleidung (für alle Fälle)\r\n- Rucksack für deine Sachen\r\n- eine Gymnastikmatte oder ein Sitzkissen\r\n- ein Frühstück für unsere gemeinsame Pause\r\n\r\nWann geht's los?\r\n- Wir starten jeden Tag um 8:00 Uhr\r\n- Du kannst zwischen 15:30 Uhr und 16:00 Uhr abgeholt werden\r\n\r\nUnd jetzt?\r\nSag deinen Eltern Bescheid und melde dich schnell an – wir freuen uns schon riesig auf dich!\r\n\r\nVeranstalter: Care4Kidz in Kooperation mit der Kommunalen Jugendarbeit der Stadt Schweinfurt
URL;VALUE=URI:https://www.unser-ferienprogramm.de/schweinfurt/veranstaltung.php?id=295905
SUMMARY:Dein Glücks-Abenteuer in den Sommerferien I
DTSTART;TZID=Europe/Berlin:20260803T080000
END:VEVENT


BEGIN:VEVENT
DTEND;TZID=Europe/Berlin:20260804T160000
UID:69ebdeea4fa0d1
DTSTAMP:20260424T232146
LOCATION:Kerschensteiner Grundschule Schweinfurt
DESCRIPTION:Hey du!\r\nHast du Lust auf eine richtig tolle Ferienwoche mit Spiel\, Spaß\, Bewegung und vielen neuen Freunden?\r\nDann bist du bei „Kids @ Ferienglück“ genau richtig!\r\n\r\nGemeinsam erleben wir spannende Tage – voller Abenteuer\, kreativer Ideen und lustiger Aktionen. Und das Beste: Du darfst mitentscheiden\, was wir machen!\r\n\r\nWas dich erwartet:\r\n\r\nBasteln und kreativ sein: Du kannst malen\, bauen und richtig tolle Sachen gestalten.\r\nBewegung und Spiele: Wir toben uns aus\, spielen coole Spiele und machen Sport.\r\nAbenteuer in der Natur: Im Wald und auf Wiesen lösen wir Teamaufgaben und entdecken spannende Dinge.\r\n\r\nUnsere Stadt erkunden: Wir schauen uns Schweinfurt mal ganz anders an – mit vielen tollen Überraschungen!\r\n\r\nUnd jeden Tag lernst du dabei auch etwas über dich: Was macht dich glücklich? Was kannst du richtig gut? Was hilft dir\, stark zu sein?\r\n\r\nWas du bekommst:\r\n- tolle Betreuung von netten Erwachsenen\r\n- leckeres Mittagessen (auch vegetarisch jedoch nicht vegan)\r\n- Wasser oder Tee zum Trinken\r\n\r\nWas du mitbringen solltest:\r\n- deine Trinkflasche (gefüllt)\r\n- bequeme Kleidung und Schuhe zum Bewegen\r\n- Wechselkleidung (für alle Fälle)\r\n- Rucksack für deine Sachen\r\n- eine Gymnastikmatte oder ein Sitzkissen\r\n- ein Frühstück für unsere gemeinsame Pause\r\n\r\nWann geht's los?\r\n- Wir starten jeden Tag um 8:00 Uhr\r\n- Du kannst zwischen 15:30 Uhr und 16:00 Uhr abgeholt werden\r\n\r\nUnd jetzt?\r\nSag deinen Eltern Bescheid und melde dich schnell an – wir freuen uns schon riesig auf dich!\r\n\r\nVeranstalter: Care4Kidz in Kooperation mit der Kommunalen Jugendarbeit der Stadt Schweinfurt
URL;VALUE=URI:https://www.unser-ferienprogramm.de/schweinfurt/veranstaltung.php?id=295905
SUMMARY:Dein Glücks-Abenteuer in den Sommerferien I
DTSTART;TZID=Europe/Berlin:20260804T080000
END:VEVENT


BEGIN:VEVENT
DTEND;TZID=Europe/Berlin:20260805T160000
UID:69ebdeea4fa232
DTSTAMP:20260424T232146
LOCATION:Kerschensteiner Grundschule Schweinfurt
DESCRIPTION:Hey du!\r\nHast du Lust auf eine richtig tolle Ferienwoche mit Spiel\, Spaß\, Bewegung und vielen neuen Freunden?\r\nDann bist du bei „Kids @ Ferienglück“ genau richtig!\r\n\r\nGemeinsam erleben wir spannende Tage – voller Abenteuer\, kreativer Ideen und lustiger Aktionen. Und das Beste: Du darfst mitentscheiden\, was wir machen!\r\n\r\nWas dich erwartet:\r\n\r\nBasteln und kreativ sein: Du kannst malen\, bauen und richtig tolle Sachen gestalten.\r\nBewegung und Spiele: Wir toben uns aus\, spielen coole Spiele und machen Sport.\r\nAbenteuer in der Natur: Im Wald und auf Wiesen lösen wir Teamaufgaben und entdecken spannende Dinge.\r\n\r\nUnsere Stadt erkunden: Wir schauen uns Schweinfurt mal ganz anders an – mit vielen tollen Überraschungen!\r\n\r\nUnd jeden Tag lernst du dabei auch etwas über dich: Was macht dich glücklich? Was kannst du richtig gut? Was hilft dir\, stark zu sein?\r\n\r\nWas du bekommst:\r\n- tolle Betreuung von netten Erwachsenen\r\n- leckeres Mittagessen (auch vegetarisch jedoch nicht vegan)\r\n- Wasser oder Tee zum Trinken\r\n\r\nWas du mitbringen solltest:\r\n- deine Trinkflasche (gefüllt)\r\n- bequeme Kleidung und Schuhe zum Bewegen\r\n- Wechselkleidung (für alle Fälle)\r\n- Rucksack für deine Sachen\r\n- eine Gymnastikmatte oder ein Sitzkissen\r\n- ein Frühstück für unsere gemeinsame Pause\r\n\r\nWann geht's los?\r\n- Wir starten jeden Tag um 8:00 Uhr\r\n- Du kannst zwischen 15:30 Uhr und 16:00 Uhr abgeholt werden\r\n\r\nUnd jetzt?\r\nSag deinen Eltern Bescheid und melde dich schnell an – wir freuen uns schon riesig auf dich!\r\n\r\nVeranstalter: Care4Kidz in Kooperation mit der Kommunalen Jugendarbeit der Stadt Schweinfurt
URL;VALUE=URI:https://www.unser-ferienprogramm.de/schweinfurt/veranstaltung.php?id=295905
SUMMARY:Dein Glücks-Abenteuer in den Sommerferien I
DTSTART;TZID=Europe/Berlin:20260805T080000
END:VEVENT


BEGIN:VEVENT
DTEND;TZID=Europe/Berlin:20260806T160000
UID:69ebdeea4fa343
DTSTAMP:20260424T232146
LOCATION:Kerschensteiner Grundschule Schweinfurt
DESCRIPTION:Hey du!\r\nHast du Lust auf eine richtig tolle Ferienwoche mit Spiel\, Spaß\, Bewegung und vielen neuen Freunden?\r\nDann bist du bei „Kids @ Ferienglück“ genau richtig!\r\n\r\nGemeinsam erleben wir spannende Tage – voller Abenteuer\, kreativer Ideen und lustiger Aktionen. Und das Beste: Du darfst mitentscheiden\, was wir machen!\r\n\r\nWas dich erwartet:\r\n\r\nBasteln und kreativ sein: Du kannst malen\, bauen und richtig tolle Sachen gestalten.\r\nBewegung und Spiele: Wir toben uns aus\, spielen coole Spiele und machen Sport.\r\nAbenteuer in der Natur: Im Wald und auf Wiesen lösen wir Teamaufgaben und entdecken spannende Dinge.\r\n\r\nUnsere Stadt erkunden: Wir schauen uns Schweinfurt mal ganz anders an – mit vielen tollen Überraschungen!\r\n\r\nUnd jeden Tag lernst du dabei auch etwas über dich: Was macht dich glücklich? Was kannst du richtig gut? Was hilft dir\, stark zu sein?\r\n\r\nWas du bekommst:\r\n- tolle Betreuung von netten Erwachsenen\r\n- leckeres Mittagessen (auch vegetarisch jedoch nicht vegan)\r\n- Wasser oder Tee zum Trinken\r\n\r\nWas du mitbringen solltest:\r\n- deine Trinkflasche (gefüllt)\r\n- bequeme Kleidung und Schuhe zum Bewegen\r\n- Wechselkleidung (für alle Fälle)\r\n- Rucksack für deine Sachen\r\n- eine Gymnastikmatte oder ein Sitzkissen\r\n- ein Frühstück für unsere gemeinsame Pause\r\n\r\nWann geht's los?\r\n- Wir starten jeden Tag um 8:00 Uhr\r\n- Du kannst zwischen 15:30 Uhr und 16:00 Uhr abgeholt werden\r\n\r\nUnd jetzt?\r\nSag deinen Eltern Bescheid und melde dich schnell an – wir freuen uns schon riesig auf dich!\r\n\r\nVeranstalter: Care4Kidz in Kooperation mit der Kommunalen Jugendarbeit der Stadt Schweinfurt
URL;VALUE=URI:https://www.unser-ferienprogramm.de/schweinfurt/veranstaltung.php?id=295905
SUMMARY:Dein Glücks-Abenteuer in den Sommerferien I
DTSTART;TZID=Europe/Berlin:20260806T080000
END:VEVENT


BEGIN:VEVENT
DTEND;TZID=Europe/Berlin:20260807T160000
UID:69ebdeea4fa454
DTSTAMP:20260424T232146
LOCATION:Kerschensteiner Grundschule Schweinfurt
DESCRIPTION:Hey du!\r\nHast du Lust auf eine richtig tolle Ferienwoche mit Spiel\, Spaß\, Bewegung und vielen neuen Freunden?\r\nDann bist du bei „Kids @ Ferienglück“ genau richtig!\r\n\r\nGemeinsam erleben wir spannende Tage – voller Abenteuer\, kreativer Ideen und lustiger Aktionen. Und das Beste: Du darfst mitentscheiden\, was wir machen!\r\n\r\nWas dich erwartet:\r\n\r\nBasteln und kreativ sein: Du kannst malen\, bauen und richtig tolle Sachen gestalten.\r\nBewegung und Spiele: Wir toben uns aus\, spielen coole Spiele und machen Sport.\r\nAbenteuer in der Natur: Im Wald und auf Wiesen lösen wir Teamaufgaben und entdecken spannende Dinge.\r\n\r\nUnsere Stadt erkunden: Wir schauen uns Schweinfurt mal ganz anders an – mit vielen tollen Überraschungen!\r\n\r\nUnd jeden Tag lernst du dabei auch etwas über dich: Was macht dich glücklich? Was kannst du richtig gut? Was hilft dir\, stark zu sein?\r\n\r\nWas du bekommst:\r\n- tolle Betreuung von netten Erwachsenen\r\n- leckeres Mittagessen (auch vegetarisch jedoch nicht vegan)\r\n- Wasser oder Tee zum Trinken\r\n\r\nWas du mitbringen solltest:\r\n- deine Trinkflasche (gefüllt)\r\n- bequeme Kleidung und Schuhe zum Bewegen\r\n- Wechselkleidung (für alle Fälle)\r\n- Rucksack für deine Sachen\r\n- eine Gymnastikmatte oder ein Sitzkissen\r\n- ein Frühstück für unsere gemeinsame Pause\r\n\r\nWann geht's los?\r\n- Wir starten jeden Tag um 8:00 Uhr\r\n- Du kannst zwischen 15:30 Uhr und 16:00 Uhr abgeholt werden\r\n\r\nUnd jetzt?\r\nSag deinen Eltern Bescheid und melde dich schnell an – wir freuen uns schon riesig auf dich!\r\n\r\nVeranstalter: Care4Kidz in Kooperation mit der Kommunalen Jugendarbeit der Stadt Schweinfurt
URL;VALUE=URI:https://www.unser-ferienprogramm.de/schweinfurt/veranstaltung.php?id=295905
SUMMARY:Dein Glücks-Abenteuer in den Sommerferien I
DTSTART;TZID=Europe/Berlin:20260807T080000
END:VEVENT

END:VCALENDAR
