BEGIN:VCALENDAR
VERSION:2.0
PRODID:-//hacksw/handcal//NONSGML v1.0//EN
CALSCALE:GREGORIAN
BEGIN:VTIMEZONE
TZID:Europe/Berlin
X-LIC-LOCATION:Europe/Berlin
BEGIN:DAYLIGHT
TZOFFSETFROM:+0100
TZOFFSETTO:+0200
TZNAME:CEST
DTSTART:19700329T020000
RRULE:FREQ=YEARLY;BYDAY=-1SU;BYMONTH=3
END:DAYLIGHT
BEGIN:STANDARD
TZOFFSETFROM:+0200
TZOFFSETTO:+0100
TZNAME:CET
DTSTART:19701025T030000
RRULE:FREQ=YEARLY;BYDAY=-1SU;BYMONTH=10
END:STANDARD
END:VTIMEZONE
BEGIN:VEVENT
DTEND;TZID=Europe/Berlin:20260530T000000
UID:69ebe1f63aa29
DTSTAMP:20260424T233446
LOCATION:Zeltplatz Fitzendorf
DESCRIPTION:Beim diesjährigen Pfingstabenteuer erwartet dich der schrullige und witzige Waldder. Er kann es kaum erwarten\, mit dir eine abenteuerliche Woche inmitten der Fitzendorfer Wälder zu verbringen. Doch hat er oft nur Unsinn im Kopf und stellt gerne das Lagerfeuer und die Zelte auf den Kopf. Ob es dir gelingt\, Waldders Unfug und Schabernack wieder geradezurücken?\r\n\r\nIm Preis enthalten ist\r\n- Übernachtung in Zelten\r\n- Verpflegung\r\n- Material\r\n- umfangreiches Programm\r\n\r\nAnmeldung erfolgt nur über die kja Main-Rhön.\r\n\r\nVeranstalter:\r\nkja Main-Rhön
URL;VALUE=URI:https://www.unser-ferienprogramm.de/schweinfurt/veranstaltung.php?id=295886
SUMMARY:Pfingstabenteuer 2026
DTSTART;TZID=Europe/Berlin:20260524T000000
END:VEVENT

END:VCALENDAR
