BEGIN:VCALENDAR
VERSION:2.0
PRODID:-//hacksw/handcal//NONSGML v1.0//EN
CALSCALE:GREGORIAN
BEGIN:VTIMEZONE
TZID:Europe/Berlin
X-LIC-LOCATION:Europe/Berlin
BEGIN:DAYLIGHT
TZOFFSETFROM:+0100
TZOFFSETTO:+0200
TZNAME:CEST
DTSTART:19700329T020000
RRULE:FREQ=YEARLY;BYDAY=-1SU;BYMONTH=3
END:DAYLIGHT
BEGIN:STANDARD
TZOFFSETFROM:+0200
TZOFFSETTO:+0100
TZNAME:CET
DTSTART:19701025T030000
RRULE:FREQ=YEARLY;BYDAY=-1SU;BYMONTH=10
END:STANDARD
END:VTIMEZONE
BEGIN:VEVENT
DTEND;TZID=Europe/Berlin:20260602T130000
UID:69ebe1c3acf0a
DTSTAMP:20260424T233355
LOCATION:Kunsthalle
DESCRIPTION:Mach dich bereit für ein kunterbuntes Abenteuer!\r\nBei uns wird gemalt\, gedruckt\, gekleckst und wild experimentiert – ganz so\, wie du willst.\r\n\r\nOb leuchtende Farben\, lustige Formen oder geheimnisvolle Muster:\r\nHier kannst du deiner Fantasie freien Lauf lassen und Kunstwerke erschaffen\, die so einzigartig sind wie du!\r\n\r\nEs warten jede Menge kreative Überraschungen auf dich – also schnapp dir Pinsel\, Farbe und Mut zum Ausprobieren!\r\n\r\nVeranstalter:\r\nKunsthalle Schweinfurt
URL;VALUE=URI:https://www.unser-ferienprogramm.de/schweinfurt/veranstaltung.php?id=295883
SUMMARY:Farbenexplosion und Formenwirbel – Willkommen in der Welt der Fantasie!
DTSTART;TZID=Europe/Berlin:20260602T103000
END:VEVENT

END:VCALENDAR
