BEGIN:VCALENDAR
VERSION:2.0
PRODID:-//hacksw/handcal//NONSGML v1.0//EN
CALSCALE:GREGORIAN
BEGIN:VTIMEZONE
TZID:Europe/Berlin
X-LIC-LOCATION:Europe/Berlin
BEGIN:DAYLIGHT
TZOFFSETFROM:+0100
TZOFFSETTO:+0200
TZNAME:CEST
DTSTART:19700329T020000
RRULE:FREQ=YEARLY;BYDAY=-1SU;BYMONTH=3
END:DAYLIGHT
BEGIN:STANDARD
TZOFFSETFROM:+0200
TZOFFSETTO:+0100
TZNAME:CET
DTSTART:19701025T030000
RRULE:FREQ=YEARLY;BYDAY=-1SU;BYMONTH=10
END:STANDARD
END:VTIMEZONE
BEGIN:VEVENT
DTEND;TZID=Europe/Berlin:20260602T140000
UID:69ebe23a69193
DTSTAMP:20260424T233554
LOCATION:Kunsthalle Schweinfurt
DESCRIPTION:Mit Messer und Holz kreativ werden! Wir lernen einfache\, sichere Schnitztechniken und gestalten kleine Gegenstände aus Astholz. Ein Workshop für Mut\, Geschick und Spaß am Arbeiten mit Naturmaterialien.\r\n\r\nVeranstalter:\r\nKunsthalle Schweinfurt
URL;VALUE=URI:https://www.unser-ferienprogramm.de/schweinfurt/veranstaltung.php?id=295881
SUMMARY:Schnitzworkshop II
DTSTART;TZID=Europe/Berlin:20260602T110000
END:VEVENT

END:VCALENDAR
