BEGIN:VCALENDAR
VERSION:2.0
PRODID:-//hacksw/handcal//NONSGML v1.0//EN
CALSCALE:GREGORIAN
BEGIN:VTIMEZONE
TZID:Europe/Berlin
X-LIC-LOCATION:Europe/Berlin
BEGIN:DAYLIGHT
TZOFFSETFROM:+0100
TZOFFSETTO:+0200
TZNAME:CEST
DTSTART:19700329T020000
RRULE:FREQ=YEARLY;BYDAY=-1SU;BYMONTH=3
END:DAYLIGHT
BEGIN:STANDARD
TZOFFSETFROM:+0200
TZOFFSETTO:+0100
TZNAME:CET
DTSTART:19701025T030000
RRULE:FREQ=YEARLY;BYDAY=-1SU;BYMONTH=10
END:STANDARD
END:VTIMEZONE
BEGIN:VEVENT
DTEND;TZID=Europe/Berlin:20260526T160000
UID:69ebd21890372
DTSTAMP:20260424T222704
LOCATION:Georg-Wichtermann-Halle Schweinfurt
DESCRIPTION:Bei unserem Sport-Camp sind jede Menge Spiel\, Spaß und Action garantiert! Jeden Tag werden verschiedene Sportaktivitäten (z.B. Fußball\, Basketball\, Hockey\, Hip-Hop Dance\, Mini-Olympiade u.v.m.) angeboten\, aus denen die Kids frei wählen können. Zwischen den Blöcken liegen betreute Pausenzeiten zum Essen\, Trinken und zur Erholung mit schönen Spielangeboten.\r\n\r\nDas erwartet dich:\r\n• Mittagessen (auch vegetarisch) und Getränke\r\n• Betreuung durch Sportpädagogen/-innen und qualifizierten Übungsleitern/-innen\r\n• attraktive Sport- und Spielangebote sowie betreute Pausenzeiten\r\n\r\nDas solltest du mitbringen:\r\n\r\n• Sportklamotten und Sportschuhe für drinnen und draußen\r\n• Rucksack\r\n• Trinkflasche und einen kleinen Snack für die Frühstückspause\r\n\r\nVeranstalter:\r\nFAF Kids gemeinnützige GmbH in Kooperation mit der Kommunalen Jugendarbeit der Stadt Schweinfurt\r\n
URL;VALUE=URI:https://www.unser-ferienprogramm.de/schweinfurt/veranstaltung.php?id=295851
SUMMARY:Kids Sport Camp in den Pfingstferien
DTSTART;TZID=Europe/Berlin:20260526T080000
END:VEVENT


BEGIN:VEVENT
DTEND;TZID=Europe/Berlin:20260527T160000
UID:69ebd218903b51
DTSTAMP:20260424T222704
LOCATION:Georg-Wichtermann-Halle Schweinfurt
DESCRIPTION:Bei unserem Sport-Camp sind jede Menge Spiel\, Spaß und Action garantiert! Jeden Tag werden verschiedene Sportaktivitäten (z.B. Fußball\, Basketball\, Hockey\, Hip-Hop Dance\, Mini-Olympiade u.v.m.) angeboten\, aus denen die Kids frei wählen können. Zwischen den Blöcken liegen betreute Pausenzeiten zum Essen\, Trinken und zur Erholung mit schönen Spielangeboten.\r\n\r\nDas erwartet dich:\r\n• Mittagessen (auch vegetarisch) und Getränke\r\n• Betreuung durch Sportpädagogen/-innen und qualifizierten Übungsleitern/-innen\r\n• attraktive Sport- und Spielangebote sowie betreute Pausenzeiten\r\n\r\nDas solltest du mitbringen:\r\n\r\n• Sportklamotten und Sportschuhe für drinnen und draußen\r\n• Rucksack\r\n• Trinkflasche und einen kleinen Snack für die Frühstückspause\r\n\r\nVeranstalter:\r\nFAF Kids gemeinnützige GmbH in Kooperation mit der Kommunalen Jugendarbeit der Stadt Schweinfurt\r\n
URL;VALUE=URI:https://www.unser-ferienprogramm.de/schweinfurt/veranstaltung.php?id=295851
SUMMARY:Kids Sport Camp in den Pfingstferien
DTSTART;TZID=Europe/Berlin:20260527T080000
END:VEVENT


BEGIN:VEVENT
DTEND;TZID=Europe/Berlin:20260528T160000
UID:69ebd218903c82
DTSTAMP:20260424T222704
LOCATION:Georg-Wichtermann-Halle Schweinfurt
DESCRIPTION:Bei unserem Sport-Camp sind jede Menge Spiel\, Spaß und Action garantiert! Jeden Tag werden verschiedene Sportaktivitäten (z.B. Fußball\, Basketball\, Hockey\, Hip-Hop Dance\, Mini-Olympiade u.v.m.) angeboten\, aus denen die Kids frei wählen können. Zwischen den Blöcken liegen betreute Pausenzeiten zum Essen\, Trinken und zur Erholung mit schönen Spielangeboten.\r\n\r\nDas erwartet dich:\r\n• Mittagessen (auch vegetarisch) und Getränke\r\n• Betreuung durch Sportpädagogen/-innen und qualifizierten Übungsleitern/-innen\r\n• attraktive Sport- und Spielangebote sowie betreute Pausenzeiten\r\n\r\nDas solltest du mitbringen:\r\n\r\n• Sportklamotten und Sportschuhe für drinnen und draußen\r\n• Rucksack\r\n• Trinkflasche und einen kleinen Snack für die Frühstückspause\r\n\r\nVeranstalter:\r\nFAF Kids gemeinnützige GmbH in Kooperation mit der Kommunalen Jugendarbeit der Stadt Schweinfurt\r\n
URL;VALUE=URI:https://www.unser-ferienprogramm.de/schweinfurt/veranstaltung.php?id=295851
SUMMARY:Kids Sport Camp in den Pfingstferien
DTSTART;TZID=Europe/Berlin:20260528T080000
END:VEVENT


BEGIN:VEVENT
DTEND;TZID=Europe/Berlin:20260529T160000
UID:69ebd218903d73
DTSTAMP:20260424T222704
LOCATION:Georg-Wichtermann-Halle Schweinfurt
DESCRIPTION:Bei unserem Sport-Camp sind jede Menge Spiel\, Spaß und Action garantiert! Jeden Tag werden verschiedene Sportaktivitäten (z.B. Fußball\, Basketball\, Hockey\, Hip-Hop Dance\, Mini-Olympiade u.v.m.) angeboten\, aus denen die Kids frei wählen können. Zwischen den Blöcken liegen betreute Pausenzeiten zum Essen\, Trinken und zur Erholung mit schönen Spielangeboten.\r\n\r\nDas erwartet dich:\r\n• Mittagessen (auch vegetarisch) und Getränke\r\n• Betreuung durch Sportpädagogen/-innen und qualifizierten Übungsleitern/-innen\r\n• attraktive Sport- und Spielangebote sowie betreute Pausenzeiten\r\n\r\nDas solltest du mitbringen:\r\n\r\n• Sportklamotten und Sportschuhe für drinnen und draußen\r\n• Rucksack\r\n• Trinkflasche und einen kleinen Snack für die Frühstückspause\r\n\r\nVeranstalter:\r\nFAF Kids gemeinnützige GmbH in Kooperation mit der Kommunalen Jugendarbeit der Stadt Schweinfurt\r\n
URL;VALUE=URI:https://www.unser-ferienprogramm.de/schweinfurt/veranstaltung.php?id=295851
SUMMARY:Kids Sport Camp in den Pfingstferien
DTSTART;TZID=Europe/Berlin:20260529T080000
END:VEVENT

END:VCALENDAR
