BEGIN:VCALENDAR
VERSION:2.0
PRODID:-//hacksw/handcal//NONSGML v1.0//EN
CALSCALE:GREGORIAN
BEGIN:VTIMEZONE
TZID:Europe/Berlin
X-LIC-LOCATION:Europe/Berlin
BEGIN:DAYLIGHT
TZOFFSETFROM:+0100
TZOFFSETTO:+0200
TZNAME:CEST
DTSTART:19700329T020000
RRULE:FREQ=YEARLY;BYDAY=-1SU;BYMONTH=3
END:DAYLIGHT
BEGIN:STANDARD
TZOFFSETFROM:+0200
TZOFFSETTO:+0100
TZNAME:CET
DTSTART:19701025T030000
RRULE:FREQ=YEARLY;BYDAY=-1SU;BYMONTH=10
END:STANDARD
END:VTIMEZONE
BEGIN:VEVENT
DTEND;TZID=Europe/Berlin:20260704T170000
UID:69ebe41703e05
DTSTAMP:20260424T234351
LOCATION:Fichtelsgarten
DESCRIPTION:Parallel zum Spielfest im Fichtelsgarten gibt es natürlich auch wieder einen Flohmarkt für Kinder und Jugendliche. Wir weisen darauf hin\, dass der Flohmarktstand während der Aktionszeit von den Kindern bzw. Jugendlichen betreut werden muss. Kriegsspielzeug und Kriegsspiele ("Ballerspiele") dürfen nicht angeboten werden. Tische müssen mitgebracht werden.\r\n\r\nVeranstalter:\r\nKommunale Jugendarbeit der Stadt Schweinfurt
URL;VALUE=URI:https://www.unser-ferienprogramm.de/schweinfurt/veranstaltung.php?id=295793
SUMMARY:Kinder- und Jugendflohmarkt
DTSTART;TZID=Europe/Berlin:20260704T110000
END:VEVENT

END:VCALENDAR
