BEGIN:VCALENDAR
VERSION:2.0
PRODID:-//hacksw/handcal//NONSGML v1.0//EN
CALSCALE:GREGORIAN
BEGIN:VTIMEZONE
TZID:Europe/Berlin
X-LIC-LOCATION:Europe/Berlin
BEGIN:DAYLIGHT
TZOFFSETFROM:+0100
TZOFFSETTO:+0200
TZNAME:CEST
DTSTART:19700329T020000
RRULE:FREQ=YEARLY;BYDAY=-1SU;BYMONTH=3
END:DAYLIGHT
BEGIN:STANDARD
TZOFFSETFROM:+0200
TZOFFSETTO:+0100
TZNAME:CET
DTSTART:19701025T030000
RRULE:FREQ=YEARLY;BYDAY=-1SU;BYMONTH=10
END:STANDARD
END:VTIMEZONE
BEGIN:VEVENT
DTEND;TZID=Europe/Berlin:20260517T153000
UID:69ebce590c3da
DTSTAMP:20260424T221105
LOCATION:Museum Georg Schäfer
DESCRIPTION:Albrecht Dürer war schon vor vielen hundert Jahren ein richtiger Superstar\, weil seine Drucke überall bekannt waren. In unserem Workshop schauen wir uns seine Werke ganz genau an und finden heraus\, welche spannenden Geschichten darin versteckt sind.\r\n\r\nDanach wirst du selbst kreativ: In unserer kleinen Druckstation gestaltest und druckst du dein eigenes kleines Kunstwerk\, das du natürlich mit nach Hause nehmen kannst.\r\n\r\nKomm vorbei und werde selbst zum Kunst-Star!\r\n\r\nAnmeldung nur direkt über das Museum Georg Schäfer telefonisch oder über die Homepage des Museums.\r\n\r\nVeranstalter:\r\nMuseum Georg Schäfer
URL;VALUE=URI:https://www.unser-ferienprogramm.de/schweinfurt/veranstaltung.php?id=295708
SUMMARY:„Albrecht Dürer Superstar“ – Entdecke die Kunst eines echten Berühmten!
DTSTART;TZID=Europe/Berlin:20260517T140000
END:VEVENT

END:VCALENDAR
