BEGIN:VCALENDAR
VERSION:2.0
PRODID:-//hacksw/handcal//NONSGML v1.0//EN
CALSCALE:GREGORIAN
BEGIN:VTIMEZONE
TZID:Europe/Berlin
X-LIC-LOCATION:Europe/Berlin
BEGIN:DAYLIGHT
TZOFFSETFROM:+0100
TZOFFSETTO:+0200
TZNAME:CEST
DTSTART:19700329T020000
RRULE:FREQ=YEARLY;BYDAY=-1SU;BYMONTH=3
END:DAYLIGHT
BEGIN:STANDARD
TZOFFSETFROM:+0200
TZOFFSETTO:+0100
TZNAME:CET
DTSTART:19701025T030000
RRULE:FREQ=YEARLY;BYDAY=-1SU;BYMONTH=10
END:STANDARD
END:VTIMEZONE
BEGIN:VEVENT
DTEND;TZID=Europe/Berlin:20260711T200000
UID:69ebe23ade044
DTSTAMP:20260424T233554
LOCATION:Jugendhaus FränZ
DESCRIPTION:Am 11.07.2026 verwandelt sich das Gelände des Jugendhauses "FränZ" von 15:00 bis 20:00 Uhr in ein buntes Kreativ- und Kulturfestival.\r\nErlebt beeindruckende Graffiti- und Streetart-Künstler/-innen aus Schweinfurt\, Würzburg und Bamberg\, die live ihre Werke erschaffen und zeigen.\r\n\r\nAuf der Bühne erwarten euch verschiedene regionale Musikprojekte\, die für die passenden Vibes sorgen.\r\nFür Familien ist ebenfalls einiges geboten: Spielbusse\, Hüpfburg und viele bunte Mitmach-Aktionen laden Groß und Klein zum Ausprobieren und Spaßhaben ein.\r\n\r\nKommt vorbei und feiert mit uns ein Festival voller Farbe\, Kreativität und guter Stimmung!
URL;VALUE=URI:https://www.unser-ferienprogramm.de/schweinfurt/veranstaltung.php?id=295561
SUMMARY:Fresh Paint Festival – Colour the City!
DTSTART;TZID=Europe/Berlin:20260711T150000
END:VEVENT

END:VCALENDAR
