BEGIN:VCALENDAR
VERSION:2.0
PRODID:-//hacksw/handcal//NONSGML v1.0//EN
CALSCALE:GREGORIAN
BEGIN:VTIMEZONE
TZID:Europe/Berlin
X-LIC-LOCATION:Europe/Berlin
BEGIN:DAYLIGHT
TZOFFSETFROM:+0100
TZOFFSETTO:+0200
TZNAME:CEST
DTSTART:19700329T020000
RRULE:FREQ=YEARLY;BYDAY=-1SU;BYMONTH=3
END:DAYLIGHT
BEGIN:STANDARD
TZOFFSETFROM:+0200
TZOFFSETTO:+0100
TZNAME:CET
DTSTART:19701025T030000
RRULE:FREQ=YEARLY;BYDAY=-1SU;BYMONTH=10
END:STANDARD
END:VTIMEZONE
BEGIN:VEVENT
DTEND;TZID=Europe/Berlin:20260731T220000
UID:69ebf338648cf
DTSTAMP:20260425T004824
LOCATION:Jugendhaus FränZ
DESCRIPTION:Am 31.07.2026 feiern wir den Start in die Sommerferien – von 18:00 bis 22:00 Uhr steigt die ultimative School’s Out Disco für alle von 12 bis 17 Jahren.\r\nFreu dich auf heiße Beats\, gute Laune und den perfekten Start in deine freie Zeit!\r\n\r\nEintritt: 2\,00 €\r\nWichtig: Personalausweis nicht vergessen\, es findet eine Ausweiskontrolle statt.\r\n\r\nKomm vorbei und tanz dich in die Ferien!
URL;VALUE=URI:https://www.unser-ferienprogramm.de/schweinfurt/veranstaltung.php?id=295560
SUMMARY:School’s Out Disco – Endlich Ferien!
DTSTART;TZID=Europe/Berlin:20260731T180000
END:VEVENT

END:VCALENDAR
