BEGIN:VCALENDAR
VERSION:2.0
PRODID:-//hacksw/handcal//NONSGML v1.0//EN
CALSCALE:GREGORIAN
BEGIN:VTIMEZONE
TZID:Europe/Berlin
X-LIC-LOCATION:Europe/Berlin
BEGIN:DAYLIGHT
TZOFFSETFROM:+0100
TZOFFSETTO:+0200
TZNAME:CEST
DTSTART:19700329T020000
RRULE:FREQ=YEARLY;BYDAY=-1SU;BYMONTH=3
END:DAYLIGHT
BEGIN:STANDARD
TZOFFSETFROM:+0200
TZOFFSETTO:+0100
TZNAME:CET
DTSTART:19701025T030000
RRULE:FREQ=YEARLY;BYDAY=-1SU;BYMONTH=10
END:STANDARD
END:VTIMEZONE
BEGIN:VEVENT
DTEND;TZID=Europe/Berlin:20260710T220000
UID:69ebe41771fa4
DTSTAMP:20260424T234351
LOCATION:Jugendhaus FränZ
DESCRIPTION:Am 10.07.2026 wird’s bunt! Von 18:00 bis 22:00 Uhr feiern wir die farbenfrohste Jugend-Disco für alle von 12 bis 17 Jahren.\r\nDich erwarten knallige Farben\, fette Beats und echte Sommer-Vibes!\r\n\r\nEintritt: 3\,00 € – in weißer Kleidung sogar kostenlos!\r\nNicht vergessen: Personalausweis mitbringen\, es gibt eine Ausweiskontrolle.\r\n\r\nSchlechtes Wetter? Kein Problem – dann gibt’s die UV-Party indoor!\r\n\r\nSei dabei und lass es richtig krachen!
URL;VALUE=URI:https://www.unser-ferienprogramm.de/schweinfurt/veranstaltung.php?id=295559
SUMMARY:Holi Disco - Colour Explosion!
DTSTART;TZID=Europe/Berlin:20260710T180000
END:VEVENT

END:VCALENDAR
