BEGIN:VCALENDAR
VERSION:2.0
PRODID:-//hacksw/handcal//NONSGML v1.0//EN
CALSCALE:GREGORIAN
BEGIN:VTIMEZONE
TZID:Europe/Berlin
X-LIC-LOCATION:Europe/Berlin
BEGIN:DAYLIGHT
TZOFFSETFROM:+0100
TZOFFSETTO:+0200
TZNAME:CEST
DTSTART:19700329T020000
RRULE:FREQ=YEARLY;BYDAY=-1SU;BYMONTH=3
END:DAYLIGHT
BEGIN:STANDARD
TZOFFSETFROM:+0200
TZOFFSETTO:+0100
TZNAME:CET
DTSTART:19701025T030000
RRULE:FREQ=YEARLY;BYDAY=-1SU;BYMONTH=10
END:STANDARD
END:VTIMEZONE
BEGIN:VEVENT
DTEND;TZID=Europe/Berlin:20260418T173000
UID:69ebce1f47742
DTSTAMP:20260424T221007
LOCATION:Haardt\, gegenüber Bushaltestelle Tilm.-Riemenschn.-Str.
DESCRIPTION:Für naturbegeisterte Kinder\r\n\r\nFür alle Kinder\, die gerne die Pflanzen- und Tierwelt erforschen und ihre Entdeckungsfreude ausleben möchten: Wir tauchen gemeinsam in die Natur ein und erkunden spielerisch mit unseren Sinnen – tasten\, riechen\, hören – was alles wächst\, kriecht und fliegt.\r\n\r\nAuf dem Programm steht auch Basteln mit Naturmaterialien\, die uns die Natur schenkt. Natürlich kommt auch das freie Spielen nicht zu kurz. Mein persönlicher Herzenswunsch ist es\, die Begeisterung für Wildkräuter zu wecken.\r\n\r\nBitte bringt ein Sitzkissen\, ein kleines Getränk und einen kleinen Snack mit.\r\n\r\nUnser Ausflug in die Natur startet ab Samstag\, den 25.10.2025\, und findet 6-mal jeweils von 14:00 bis 17:00 Uhr statt.\r\n\r\nVeranstalter:\r\nTanja Firsching
URL;VALUE=URI:https://www.unser-ferienprogramm.de/schweinfurt/veranstaltung.php?id=295461
SUMMARY:Natur entdecken
DTSTART;TZID=Europe/Berlin:20260418T143000
END:VEVENT


BEGIN:VEVENT
DTEND;TZID=Europe/Berlin:20260425T173000
UID:69ebce1f4776d1
DTSTAMP:20260424T221007
LOCATION:Haardt\, gegenüber Bushaltestelle Tilm.-Riemenschn.-Str.
DESCRIPTION:Für naturbegeisterte Kinder\r\n\r\nFür alle Kinder\, die gerne die Pflanzen- und Tierwelt erforschen und ihre Entdeckungsfreude ausleben möchten: Wir tauchen gemeinsam in die Natur ein und erkunden spielerisch mit unseren Sinnen – tasten\, riechen\, hören – was alles wächst\, kriecht und fliegt.\r\n\r\nAuf dem Programm steht auch Basteln mit Naturmaterialien\, die uns die Natur schenkt. Natürlich kommt auch das freie Spielen nicht zu kurz. Mein persönlicher Herzenswunsch ist es\, die Begeisterung für Wildkräuter zu wecken.\r\n\r\nBitte bringt ein Sitzkissen\, ein kleines Getränk und einen kleinen Snack mit.\r\n\r\nUnser Ausflug in die Natur startet ab Samstag\, den 25.10.2025\, und findet 6-mal jeweils von 14:00 bis 17:00 Uhr statt.\r\n\r\nVeranstalter:\r\nTanja Firsching
URL;VALUE=URI:https://www.unser-ferienprogramm.de/schweinfurt/veranstaltung.php?id=295461
SUMMARY:Natur entdecken
DTSTART;TZID=Europe/Berlin:20260425T143000
END:VEVENT


BEGIN:VEVENT
DTEND;TZID=Europe/Berlin:20260502T173000
UID:69ebce1f477752
DTSTAMP:20260424T221007
LOCATION:Haardt\, gegenüber Bushaltestelle Tilm.-Riemenschn.-Str.
DESCRIPTION:Für naturbegeisterte Kinder\r\n\r\nFür alle Kinder\, die gerne die Pflanzen- und Tierwelt erforschen und ihre Entdeckungsfreude ausleben möchten: Wir tauchen gemeinsam in die Natur ein und erkunden spielerisch mit unseren Sinnen – tasten\, riechen\, hören – was alles wächst\, kriecht und fliegt.\r\n\r\nAuf dem Programm steht auch Basteln mit Naturmaterialien\, die uns die Natur schenkt. Natürlich kommt auch das freie Spielen nicht zu kurz. Mein persönlicher Herzenswunsch ist es\, die Begeisterung für Wildkräuter zu wecken.\r\n\r\nBitte bringt ein Sitzkissen\, ein kleines Getränk und einen kleinen Snack mit.\r\n\r\nUnser Ausflug in die Natur startet ab Samstag\, den 25.10.2025\, und findet 6-mal jeweils von 14:00 bis 17:00 Uhr statt.\r\n\r\nVeranstalter:\r\nTanja Firsching
URL;VALUE=URI:https://www.unser-ferienprogramm.de/schweinfurt/veranstaltung.php?id=295461
SUMMARY:Natur entdecken
DTSTART;TZID=Europe/Berlin:20260502T143000
END:VEVENT


BEGIN:VEVENT
DTEND;TZID=Europe/Berlin:20260509T173000
UID:69ebce1f4777c3
DTSTAMP:20260424T221007
LOCATION:Haardt\, gegenüber Bushaltestelle Tilm.-Riemenschn.-Str.
DESCRIPTION:Für naturbegeisterte Kinder\r\n\r\nFür alle Kinder\, die gerne die Pflanzen- und Tierwelt erforschen und ihre Entdeckungsfreude ausleben möchten: Wir tauchen gemeinsam in die Natur ein und erkunden spielerisch mit unseren Sinnen – tasten\, riechen\, hören – was alles wächst\, kriecht und fliegt.\r\n\r\nAuf dem Programm steht auch Basteln mit Naturmaterialien\, die uns die Natur schenkt. Natürlich kommt auch das freie Spielen nicht zu kurz. Mein persönlicher Herzenswunsch ist es\, die Begeisterung für Wildkräuter zu wecken.\r\n\r\nBitte bringt ein Sitzkissen\, ein kleines Getränk und einen kleinen Snack mit.\r\n\r\nUnser Ausflug in die Natur startet ab Samstag\, den 25.10.2025\, und findet 6-mal jeweils von 14:00 bis 17:00 Uhr statt.\r\n\r\nVeranstalter:\r\nTanja Firsching
URL;VALUE=URI:https://www.unser-ferienprogramm.de/schweinfurt/veranstaltung.php?id=295461
SUMMARY:Natur entdecken
DTSTART;TZID=Europe/Berlin:20260509T143000
END:VEVENT


BEGIN:VEVENT
DTEND;TZID=Europe/Berlin:20260516T173000
UID:69ebce1f477824
DTSTAMP:20260424T221007
LOCATION:Haardt\, gegenüber Bushaltestelle Tilm.-Riemenschn.-Str.
DESCRIPTION:Für naturbegeisterte Kinder\r\n\r\nFür alle Kinder\, die gerne die Pflanzen- und Tierwelt erforschen und ihre Entdeckungsfreude ausleben möchten: Wir tauchen gemeinsam in die Natur ein und erkunden spielerisch mit unseren Sinnen – tasten\, riechen\, hören – was alles wächst\, kriecht und fliegt.\r\n\r\nAuf dem Programm steht auch Basteln mit Naturmaterialien\, die uns die Natur schenkt. Natürlich kommt auch das freie Spielen nicht zu kurz. Mein persönlicher Herzenswunsch ist es\, die Begeisterung für Wildkräuter zu wecken.\r\n\r\nBitte bringt ein Sitzkissen\, ein kleines Getränk und einen kleinen Snack mit.\r\n\r\nUnser Ausflug in die Natur startet ab Samstag\, den 25.10.2025\, und findet 6-mal jeweils von 14:00 bis 17:00 Uhr statt.\r\n\r\nVeranstalter:\r\nTanja Firsching
URL;VALUE=URI:https://www.unser-ferienprogramm.de/schweinfurt/veranstaltung.php?id=295461
SUMMARY:Natur entdecken
DTSTART;TZID=Europe/Berlin:20260516T143000
END:VEVENT

END:VCALENDAR
