BEGIN:VCALENDAR
VERSION:2.0
PRODID:-//hacksw/handcal//NONSGML v1.0//EN
CALSCALE:GREGORIAN
BEGIN:VTIMEZONE
TZID:Europe/Berlin
X-LIC-LOCATION:Europe/Berlin
BEGIN:DAYLIGHT
TZOFFSETFROM:+0100
TZOFFSETTO:+0200
TZNAME:CEST
DTSTART:19700329T020000
RRULE:FREQ=YEARLY;BYDAY=-1SU;BYMONTH=3
END:DAYLIGHT
BEGIN:STANDARD
TZOFFSETFROM:+0200
TZOFFSETTO:+0100
TZNAME:CET
DTSTART:19701025T030000
RRULE:FREQ=YEARLY;BYDAY=-1SU;BYMONTH=10
END:STANDARD
END:VTIMEZONE
BEGIN:VEVENT
DTEND;TZID=Europe/Berlin:20260803T160000
UID:69ebdeb794a05
DTSTAMP:20260424T232055
LOCATION:Jugendhaus FränZ
DESCRIPTION:Kinder können ihre Ferien bei uns auf der Abenteuerwiese in vollen Zügen ausleben. Aus Paletten\, Brettern und allem\, was sich sonst noch findet\, erschaffen wir eigene Bauwerke – dabei können die Kinder ihrer Kreativität völlig freien Lauf lassen.\r\n\r\nDie vielen Möglichkeiten im Jugendhaus „FränZ“\, inklusive eigenem Wasserspielplatz\, nutzen wir vielseitig und zeigen uns nur wenige Grenzen auf. Nach der Ankunft finden sich die Kinder in kleinen Gruppen zusammen und können über den Vormittag verteilt in ihren Gruppen bauen\, werkeln\, spielen oder sich sportlich betätigen.\r\n\r\nNach dem Mittagessen\, das von unserer Hauswirtschaftsmeisterin zubereitet wird\, können die Kinder verschiedene kreative\, sportliche oder handwerkliche Workshops besuchen. So haben sie die Möglichkeit\, viele unterschiedliche Dinge zu lernen und zu erleben. Währenddessen kann auch der angrenzende Spielplatz genutzt oder mit neuen und alten Freunden Brett- und Kartenspiele gespielt werden.\r\n\r\nAm Freitag\, den 07.08.\, 14.08. und 21.08.2026\, können die Eltern während des Elterncafés gemeinsam mit ihren Kindern die entstandenen Bauwerke bewundern und die schöne „Abenteuer“-Zeit ausklingen lassen.\r\n\r\nIm Preis enthalten ist ein Mittagessen (auch vegetarisch\, jedoch nicht vegan). Bitte bringt feste Schuhe und geeignete Kleidung mit. Falls vorhanden\, können Arbeitshandschuhe\, Hammer (ab 200 g)\, Säge und Zange mitgebracht werden.\r\n\r\nVerantwortlich: Rosalie Willner
URL;VALUE=URI:https://www.unser-ferienprogramm.de/schweinfurt/veranstaltung.php?id=295445
SUMMARY:Sommerferien auf der Abenteuerwiese I
DTSTART;TZID=Europe/Berlin:20260803T074500
END:VEVENT


BEGIN:VEVENT
DTEND;TZID=Europe/Berlin:20260804T160000
UID:69ebdeb794a561
DTSTAMP:20260424T232055
LOCATION:Jugendhaus FränZ
DESCRIPTION:Kinder können ihre Ferien bei uns auf der Abenteuerwiese in vollen Zügen ausleben. Aus Paletten\, Brettern und allem\, was sich sonst noch findet\, erschaffen wir eigene Bauwerke – dabei können die Kinder ihrer Kreativität völlig freien Lauf lassen.\r\n\r\nDie vielen Möglichkeiten im Jugendhaus „FränZ“\, inklusive eigenem Wasserspielplatz\, nutzen wir vielseitig und zeigen uns nur wenige Grenzen auf. Nach der Ankunft finden sich die Kinder in kleinen Gruppen zusammen und können über den Vormittag verteilt in ihren Gruppen bauen\, werkeln\, spielen oder sich sportlich betätigen.\r\n\r\nNach dem Mittagessen\, das von unserer Hauswirtschaftsmeisterin zubereitet wird\, können die Kinder verschiedene kreative\, sportliche oder handwerkliche Workshops besuchen. So haben sie die Möglichkeit\, viele unterschiedliche Dinge zu lernen und zu erleben. Währenddessen kann auch der angrenzende Spielplatz genutzt oder mit neuen und alten Freunden Brett- und Kartenspiele gespielt werden.\r\n\r\nAm Freitag\, den 07.08.\, 14.08. und 21.08.2026\, können die Eltern während des Elterncafés gemeinsam mit ihren Kindern die entstandenen Bauwerke bewundern und die schöne „Abenteuer“-Zeit ausklingen lassen.\r\n\r\nIm Preis enthalten ist ein Mittagessen (auch vegetarisch\, jedoch nicht vegan). Bitte bringt feste Schuhe und geeignete Kleidung mit. Falls vorhanden\, können Arbeitshandschuhe\, Hammer (ab 200 g)\, Säge und Zange mitgebracht werden.\r\n\r\nVerantwortlich: Rosalie Willner
URL;VALUE=URI:https://www.unser-ferienprogramm.de/schweinfurt/veranstaltung.php?id=295445
SUMMARY:Sommerferien auf der Abenteuerwiese I
DTSTART;TZID=Europe/Berlin:20260804T074500
END:VEVENT


BEGIN:VEVENT
DTEND;TZID=Europe/Berlin:20260805T160000
UID:69ebdeb794a6b2
DTSTAMP:20260424T232055
LOCATION:Jugendhaus FränZ
DESCRIPTION:Kinder können ihre Ferien bei uns auf der Abenteuerwiese in vollen Zügen ausleben. Aus Paletten\, Brettern und allem\, was sich sonst noch findet\, erschaffen wir eigene Bauwerke – dabei können die Kinder ihrer Kreativität völlig freien Lauf lassen.\r\n\r\nDie vielen Möglichkeiten im Jugendhaus „FränZ“\, inklusive eigenem Wasserspielplatz\, nutzen wir vielseitig und zeigen uns nur wenige Grenzen auf. Nach der Ankunft finden sich die Kinder in kleinen Gruppen zusammen und können über den Vormittag verteilt in ihren Gruppen bauen\, werkeln\, spielen oder sich sportlich betätigen.\r\n\r\nNach dem Mittagessen\, das von unserer Hauswirtschaftsmeisterin zubereitet wird\, können die Kinder verschiedene kreative\, sportliche oder handwerkliche Workshops besuchen. So haben sie die Möglichkeit\, viele unterschiedliche Dinge zu lernen und zu erleben. Währenddessen kann auch der angrenzende Spielplatz genutzt oder mit neuen und alten Freunden Brett- und Kartenspiele gespielt werden.\r\n\r\nAm Freitag\, den 07.08.\, 14.08. und 21.08.2026\, können die Eltern während des Elterncafés gemeinsam mit ihren Kindern die entstandenen Bauwerke bewundern und die schöne „Abenteuer“-Zeit ausklingen lassen.\r\n\r\nIm Preis enthalten ist ein Mittagessen (auch vegetarisch\, jedoch nicht vegan). Bitte bringt feste Schuhe und geeignete Kleidung mit. Falls vorhanden\, können Arbeitshandschuhe\, Hammer (ab 200 g)\, Säge und Zange mitgebracht werden.\r\n\r\nVerantwortlich: Rosalie Willner
URL;VALUE=URI:https://www.unser-ferienprogramm.de/schweinfurt/veranstaltung.php?id=295445
SUMMARY:Sommerferien auf der Abenteuerwiese I
DTSTART;TZID=Europe/Berlin:20260805T074500
END:VEVENT


BEGIN:VEVENT
DTEND;TZID=Europe/Berlin:20260806T160000
UID:69ebdeb794a7b3
DTSTAMP:20260424T232055
LOCATION:Jugendhaus FränZ
DESCRIPTION:Kinder können ihre Ferien bei uns auf der Abenteuerwiese in vollen Zügen ausleben. Aus Paletten\, Brettern und allem\, was sich sonst noch findet\, erschaffen wir eigene Bauwerke – dabei können die Kinder ihrer Kreativität völlig freien Lauf lassen.\r\n\r\nDie vielen Möglichkeiten im Jugendhaus „FränZ“\, inklusive eigenem Wasserspielplatz\, nutzen wir vielseitig und zeigen uns nur wenige Grenzen auf. Nach der Ankunft finden sich die Kinder in kleinen Gruppen zusammen und können über den Vormittag verteilt in ihren Gruppen bauen\, werkeln\, spielen oder sich sportlich betätigen.\r\n\r\nNach dem Mittagessen\, das von unserer Hauswirtschaftsmeisterin zubereitet wird\, können die Kinder verschiedene kreative\, sportliche oder handwerkliche Workshops besuchen. So haben sie die Möglichkeit\, viele unterschiedliche Dinge zu lernen und zu erleben. Währenddessen kann auch der angrenzende Spielplatz genutzt oder mit neuen und alten Freunden Brett- und Kartenspiele gespielt werden.\r\n\r\nAm Freitag\, den 07.08.\, 14.08. und 21.08.2026\, können die Eltern während des Elterncafés gemeinsam mit ihren Kindern die entstandenen Bauwerke bewundern und die schöne „Abenteuer“-Zeit ausklingen lassen.\r\n\r\nIm Preis enthalten ist ein Mittagessen (auch vegetarisch\, jedoch nicht vegan). Bitte bringt feste Schuhe und geeignete Kleidung mit. Falls vorhanden\, können Arbeitshandschuhe\, Hammer (ab 200 g)\, Säge und Zange mitgebracht werden.\r\n\r\nVerantwortlich: Rosalie Willner
URL;VALUE=URI:https://www.unser-ferienprogramm.de/schweinfurt/veranstaltung.php?id=295445
SUMMARY:Sommerferien auf der Abenteuerwiese I
DTSTART;TZID=Europe/Berlin:20260806T074500
END:VEVENT


BEGIN:VEVENT
DTEND;TZID=Europe/Berlin:20260807T160000
UID:69ebdeb794a8b4
DTSTAMP:20260424T232055
LOCATION:Jugendhaus FränZ
DESCRIPTION:Kinder können ihre Ferien bei uns auf der Abenteuerwiese in vollen Zügen ausleben. Aus Paletten\, Brettern und allem\, was sich sonst noch findet\, erschaffen wir eigene Bauwerke – dabei können die Kinder ihrer Kreativität völlig freien Lauf lassen.\r\n\r\nDie vielen Möglichkeiten im Jugendhaus „FränZ“\, inklusive eigenem Wasserspielplatz\, nutzen wir vielseitig und zeigen uns nur wenige Grenzen auf. Nach der Ankunft finden sich die Kinder in kleinen Gruppen zusammen und können über den Vormittag verteilt in ihren Gruppen bauen\, werkeln\, spielen oder sich sportlich betätigen.\r\n\r\nNach dem Mittagessen\, das von unserer Hauswirtschaftsmeisterin zubereitet wird\, können die Kinder verschiedene kreative\, sportliche oder handwerkliche Workshops besuchen. So haben sie die Möglichkeit\, viele unterschiedliche Dinge zu lernen und zu erleben. Währenddessen kann auch der angrenzende Spielplatz genutzt oder mit neuen und alten Freunden Brett- und Kartenspiele gespielt werden.\r\n\r\nAm Freitag\, den 07.08.\, 14.08. und 21.08.2026\, können die Eltern während des Elterncafés gemeinsam mit ihren Kindern die entstandenen Bauwerke bewundern und die schöne „Abenteuer“-Zeit ausklingen lassen.\r\n\r\nIm Preis enthalten ist ein Mittagessen (auch vegetarisch\, jedoch nicht vegan). Bitte bringt feste Schuhe und geeignete Kleidung mit. Falls vorhanden\, können Arbeitshandschuhe\, Hammer (ab 200 g)\, Säge und Zange mitgebracht werden.\r\n\r\nVerantwortlich: Rosalie Willner
URL;VALUE=URI:https://www.unser-ferienprogramm.de/schweinfurt/veranstaltung.php?id=295445
SUMMARY:Sommerferien auf der Abenteuerwiese I
DTSTART;TZID=Europe/Berlin:20260807T074500
END:VEVENT

END:VCALENDAR
