BEGIN:VCALENDAR
VERSION:2.0
PRODID:-//hacksw/handcal//NONSGML v1.0//EN
CALSCALE:GREGORIAN
BEGIN:VTIMEZONE
TZID:Europe/Berlin
X-LIC-LOCATION:Europe/Berlin
BEGIN:DAYLIGHT
TZOFFSETFROM:+0100
TZOFFSETTO:+0200
TZNAME:CEST
DTSTART:19700329T020000
RRULE:FREQ=YEARLY;BYDAY=-1SU;BYMONTH=3
END:DAYLIGHT
BEGIN:STANDARD
TZOFFSETFROM:+0200
TZOFFSETTO:+0100
TZNAME:CET
DTSTART:19701025T030000
RRULE:FREQ=YEARLY;BYDAY=-1SU;BYMONTH=10
END:STANDARD
END:VTIMEZONE
BEGIN:VEVENT
DTEND;TZID=Europe/Berlin:20260605T000000
UID:69ebf316a6bb2
DTSTAMP:20260425T004750
LOCATION:Waldeck
DESCRIPTION:Wir fahren nach Waldeck!\r\n\r\nWir machen eine Reise nach Waldeck\, das ist ein Ort am schönen Edersee in Hessen. Wir fahren mit kleinen Bussen hin. Dort schlafen wir in einer Jugendherberge\, in großen Zimmern mit mehreren Betten.\r\n\r\nIn der Herberge gibt es Frühstück und Abendessen. Für das Mittagessen nehmen wir uns leckere Lunchpakete mit.\r\n\r\nDas Gelände rund um die Herberge ist riesig und bietet viel Platz für Spaß\, Abenteuer und viele Spiele! Wir werden auch die Stadt Fritzlar besuchen und einen Ausflug nach Kassel machen. In Kassel können wir sogar ein bisschen shoppen gehen!\r\n\r\nWichtige Infos:\r\n\r\nDie Teilnahme- und Stornobedingungen gelten nach den Regeln der OBA.\r\n\r\nDu kannst die Kosten über die Pflegekasse oder andere Fördermittel abwickeln.\r\n\r\nIm Preis sind Vollverpflegung\, Übernachtung in Mehrbettzimmern (getrennt nach Mädels und Jungs) und viele coole Aktivitäten und Ausflüge enthalten.\r\n\r\nAnmeldung nur direkt beim Veranstalter.\r\n\r\nVeranstalter:\r\nOffene Behinderten Arbeit des Diakonischen Werkes Schweinfurt
URL;VALUE=URI:https://www.unser-ferienprogramm.de/schweinfurt/veranstaltung.php?id=295254
SUMMARY:Inklusive Ferienfreizeit in Waldeck
DTSTART;TZID=Europe/Berlin:20260601T000000
END:VEVENT

END:VCALENDAR
