BEGIN:VCALENDAR
VERSION:2.0
PRODID:-//hacksw/handcal//NONSGML v1.0//EN
CALSCALE:GREGORIAN
BEGIN:VTIMEZONE
TZID:Europe/Berlin
X-LIC-LOCATION:Europe/Berlin
BEGIN:DAYLIGHT
TZOFFSETFROM:+0100
TZOFFSETTO:+0200
TZNAME:CEST
DTSTART:19700329T020000
RRULE:FREQ=YEARLY;BYDAY=-1SU;BYMONTH=3
END:DAYLIGHT
BEGIN:STANDARD
TZOFFSETFROM:+0200
TZOFFSETTO:+0100
TZNAME:CET
DTSTART:19701025T030000
RRULE:FREQ=YEARLY;BYDAY=-1SU;BYMONTH=10
END:STANDARD
END:VTIMEZONE
BEGIN:VEVENT
DTEND;TZID=Europe/Berlin:20260602T170000
UID:69ebe1f72c60e
DTSTAMP:20260424T233447
LOCATION:Museum Otto Schäfer
DESCRIPTION:In diesem Workshop machen wir uns auf die Suche nach spannenden Pflanzen und Blättern\, die wir auf Karten drucken können. Dabei entdecken wir die wunderschönen Details\, die in jedem Blatt stecken\, und gestalten unsere eigenen kleinen Kunstwerke! Natürlich darf das Ausmalen nicht fehlen\, und du kannst deiner Kreativität freien Lauf lassen.\r\n\r\nAlle Materialien\, die du dafür brauchst\, sind im Preis enthalten – auch Papier für deine eigene kleine Druck-Serie. Vergiss nicht\, eine kleine Brotzeit und ein Getränk mitzubringen\, damit du während des Workshops gut gestärkt bleibst!\r\n\r\nAnmeldung und Tickets findest du auf der Seite „Veranstaltungen“ auf museumottoschaefer.de.\r\n\r\nWir freuen uns auf dich und deine Kunstwerke!
URL;VALUE=URI:https://www.unser-ferienprogramm.de/schweinfurt/veranstaltung.php?id=295028
SUMMARY:Naturdrucke – Kunst aus der Natur!
DTSTART;TZID=Europe/Berlin:20260602T140000
END:VEVENT

END:VCALENDAR
