BEGIN:VCALENDAR
VERSION:2.0
PRODID:-//hacksw/handcal//NONSGML v1.0//EN
CALSCALE:GREGORIAN
BEGIN:VTIMEZONE
TZID:Europe/Berlin
X-LIC-LOCATION:Europe/Berlin
BEGIN:DAYLIGHT
TZOFFSETFROM:+0100
TZOFFSETTO:+0200
TZNAME:CEST
DTSTART:19700329T020000
RRULE:FREQ=YEARLY;BYDAY=-1SU;BYMONTH=3
END:DAYLIGHT
BEGIN:STANDARD
TZOFFSETFROM:+0200
TZOFFSETTO:+0100
TZNAME:CET
DTSTART:19701025T030000
RRULE:FREQ=YEARLY;BYDAY=-1SU;BYMONTH=10
END:STANDARD
END:VTIMEZONE
BEGIN:VEVENT
DTEND;TZID=Europe/Berlin:20260424T170000
UID:69ebce5ed2b38
DTSTAMP:20260424T221110
LOCATION:Museum Otto Schäfer
DESCRIPTION:In diesem Workshop erfahren Kinder\, wie Geschichten aus ganz vielen Bildern entstehen können! Gemeinsam basteln wir ein kleines Daumenkino\, in dem ein fröhlicher Hase munter hüpft – ganz so\, wie es der berühmte Künstler Albrecht Dürer gemalt hat. Auf spielerische Weise entdecken wir die Welt der bewegten Bilder und erwecken unseren Hasen zum Leben!\r\n\r\nAlle Materialien\, die wir dafür brauchen\, sind im Preis enthalten. Denk daran\, eine kleine Brotzeit und ein Getränk mitzubringen\, damit du auch zwischendurch genug Energie hast!\r\n\r\nAnmeldung und Tickets gibt es auf der Seite „Veranstaltungen“ auf museumottoschaefer.de.\r\n\r\nWir freuen uns auf dich!\r\n\r\nVeranstalter:\r\nMuseum Otto Schäfer\r\nRonni Zettner
URL;VALUE=URI:https://www.unser-ferienprogramm.de/schweinfurt/veranstaltung.php?id=295027
SUMMARY:Wie der Hase läuft – Ein Bastelspaß für kleine Entdecker!
DTSTART;TZID=Europe/Berlin:20260410T150000
END:VEVENT

END:VCALENDAR
