BEGIN:VCALENDAR
VERSION:2.0
PRODID:-//hacksw/handcal//NONSGML v1.0//EN
CALSCALE:GREGORIAN
BEGIN:VTIMEZONE
TZID:Europe/Berlin
X-LIC-LOCATION:Europe/Berlin
BEGIN:DAYLIGHT
TZOFFSETFROM:+0100
TZOFFSETTO:+0200
TZNAME:CEST
DTSTART:19700329T020000
RRULE:FREQ=YEARLY;BYDAY=-1SU;BYMONTH=3
END:DAYLIGHT
BEGIN:STANDARD
TZOFFSETFROM:+0200
TZOFFSETTO:+0100
TZNAME:CET
DTSTART:19701025T030000
RRULE:FREQ=YEARLY;BYDAY=-1SU;BYMONTH=10
END:STANDARD
END:VTIMEZONE
BEGIN:VEVENT
DTEND;TZID=Europe/Berlin:20260427T180000
UID:69ebd02f1cf40
DTSTAMP:20260424T221855
LOCATION:Jugendhaus FränZ
DESCRIPTION:Zentangle® setzt sich aus den Wörtern „ZEN“ (für Entspannung und Meditation) und „TANGLE“ (verschlungene Muster) zusammen. Beim Zeichnen dieser besonderen Muster hast du nicht nur viel Spaß\, sondern kannst auch richtig gut entspannen.\r\n\r\nAus einfachen Mustern entstehen tolle Bilder\, die du für vieles benutzen kannst: zum Beispiel für Karten\, Lesezeichen\, zum Sammeln in einem Album oder um Gegenstände schön zu verzieren.\r\n\r\nDu brauchst nur einen Stift und Papier – dann kann’s auch schon losgehen! In diesem Kurs kannst Du ein schönes Geschenk für deine Mama vorbereiten.\r\n\r\nBitte bring dir ein Getränk mit.\r\n\r\nVeranstalter:\r\nSybille Schubert\r\nCertified Zentangle Teacher CZT®\r\n
URL;VALUE=URI:https://www.unser-ferienprogramm.de/schweinfurt/veranstaltung.php?id=294560
SUMMARY:ABGESAGT --- Alles Liebe zum Muttertag mit Zentangle®
DTSTART;TZID=Europe/Berlin:20260427T163000
END:VEVENT

END:VCALENDAR
