BEGIN:VCALENDAR
VERSION:2.0
PRODID:-//hacksw/handcal//NONSGML v1.0//EN
CALSCALE:GREGORIAN
BEGIN:VTIMEZONE
TZID:Europe/Berlin
X-LIC-LOCATION:Europe/Berlin
BEGIN:DAYLIGHT
TZOFFSETFROM:+0100
TZOFFSETTO:+0200
TZNAME:CEST
DTSTART:19700329T020000
RRULE:FREQ=YEARLY;BYDAY=-1SU;BYMONTH=3
END:DAYLIGHT
BEGIN:STANDARD
TZOFFSETFROM:+0200
TZOFFSETTO:+0100
TZNAME:CET
DTSTART:19701025T030000
RRULE:FREQ=YEARLY;BYDAY=-1SU;BYMONTH=10
END:STANDARD
END:VTIMEZONE
BEGIN:VEVENT
DTEND;TZID=Europe/Berlin:20260612T164500
UID:69ebe1c41c69a
DTSTAMP:20260424T233356
LOCATION:Spinnmühle
DESCRIPTION:Bist du nach den Pfingstferien bereit für ein neues Abenteuer? Dann ab ins Schachland! Unsere Schachwelt ist viel bunter\, als du denkst – hier geht's nicht nur um „schwarz oder weiß“\, sondern um clevere Züge und spannende Strategien!\r\n\r\nWir zeigen dir die besten Eröffnungen\, coole Kombinationen und geheime Endspiel-Tricks\, damit du richtig durchstarten kannst – ob du gerade erst anfängst oder schon ein erfahrener Schachspieler bist!\r\n\r\nKomm vorbei\, bring dir ein kleines Getränk mit\, um erfrischt zu bleiben. Oder wenn du möchtest\, kannst du dir auch ein leckeres Getränk bei uns holen – und das ganz günstig!\r\n\r\nWirst du der nächste Schachmeister? Find’s heraus!\r\n\r\nVeranstalter:\r\nSchachklub Schweinfurt 2000
URL;VALUE=URI:https://www.unser-ferienprogramm.de/schweinfurt/veranstaltung.php?id=294558
SUMMARY:Schach-Spaß nach den Pfingstferien
DTSTART;TZID=Europe/Berlin:20260612T151500
END:VEVENT


BEGIN:VEVENT
DTEND;TZID=Europe/Berlin:20260619T164500
UID:69ebe1c41c6b81
DTSTAMP:20260424T233356
LOCATION:Spinnmühle
DESCRIPTION:Bist du nach den Pfingstferien bereit für ein neues Abenteuer? Dann ab ins Schachland! Unsere Schachwelt ist viel bunter\, als du denkst – hier geht's nicht nur um „schwarz oder weiß“\, sondern um clevere Züge und spannende Strategien!\r\n\r\nWir zeigen dir die besten Eröffnungen\, coole Kombinationen und geheime Endspiel-Tricks\, damit du richtig durchstarten kannst – ob du gerade erst anfängst oder schon ein erfahrener Schachspieler bist!\r\n\r\nKomm vorbei\, bring dir ein kleines Getränk mit\, um erfrischt zu bleiben. Oder wenn du möchtest\, kannst du dir auch ein leckeres Getränk bei uns holen – und das ganz günstig!\r\n\r\nWirst du der nächste Schachmeister? Find’s heraus!\r\n\r\nVeranstalter:\r\nSchachklub Schweinfurt 2000
URL;VALUE=URI:https://www.unser-ferienprogramm.de/schweinfurt/veranstaltung.php?id=294558
SUMMARY:Schach-Spaß nach den Pfingstferien
DTSTART;TZID=Europe/Berlin:20260619T151500
END:VEVENT

END:VCALENDAR
