BEGIN:VCALENDAR
VERSION:2.0
PRODID:-//hacksw/handcal//NONSGML v1.0//EN
CALSCALE:GREGORIAN
BEGIN:VTIMEZONE
TZID:Europe/Berlin
X-LIC-LOCATION:Europe/Berlin
BEGIN:DAYLIGHT
TZOFFSETFROM:+0100
TZOFFSETTO:+0200
TZNAME:CEST
DTSTART:19700329T020000
RRULE:FREQ=YEARLY;BYDAY=-1SU;BYMONTH=3
END:DAYLIGHT
BEGIN:STANDARD
TZOFFSETFROM:+0200
TZOFFSETTO:+0100
TZNAME:CET
DTSTART:19701025T030000
RRULE:FREQ=YEARLY;BYDAY=-1SU;BYMONTH=10
END:STANDARD
END:VTIMEZONE
BEGIN:VEVENT
DTEND;TZID=Europe/Berlin:20260417T164500
UID:69ebd1168b882
DTSTAMP:20260424T222246
LOCATION:Spinnmühle
DESCRIPTION:Hast du nach den Osterferien Lust auf etwas Neues und Spannendes? Dann bist du bei uns genau richtig!\r\n\r\nBei uns wird's nicht nur schachmäßig spannend – der Osterhase springt bei uns nicht alleine herum! Wir zeigen dir die coolsten Schachtricks: tolle Eröffnungen\, blitzschnelle Kombinationen und clevere Endspiel-Tipps! Egal\, ob du gerade erst anfängst oder schon ein kleiner Schachprofi bist – du wirst jede Menge Neues lernen!\r\n\r\nBringe doch ein kleines Getränk mit\, aber wenn du möchtest\, kannst du dir auch ein leckeres Getränk bei uns holen – und das ganz günstig!\r\n\r\nMach mit und werde ein echter Schachmeister!\r\n\r\nVeranstalter:\r\nSchachklub Schweinfurt 2000
URL;VALUE=URI:https://www.unser-ferienprogramm.de/schweinfurt/veranstaltung.php?id=294556
SUMMARY:ABGESAGT --- Schach-Abenteuer nach den Osterferien!
DTSTART;TZID=Europe/Berlin:20260417T151500
END:VEVENT


BEGIN:VEVENT
DTEND;TZID=Europe/Berlin:20260424T164500
UID:69ebd1168b89d1
DTSTAMP:20260424T222246
LOCATION:Spinnmühle
DESCRIPTION:Hast du nach den Osterferien Lust auf etwas Neues und Spannendes? Dann bist du bei uns genau richtig!\r\n\r\nBei uns wird's nicht nur schachmäßig spannend – der Osterhase springt bei uns nicht alleine herum! Wir zeigen dir die coolsten Schachtricks: tolle Eröffnungen\, blitzschnelle Kombinationen und clevere Endspiel-Tipps! Egal\, ob du gerade erst anfängst oder schon ein kleiner Schachprofi bist – du wirst jede Menge Neues lernen!\r\n\r\nBringe doch ein kleines Getränk mit\, aber wenn du möchtest\, kannst du dir auch ein leckeres Getränk bei uns holen – und das ganz günstig!\r\n\r\nMach mit und werde ein echter Schachmeister!\r\n\r\nVeranstalter:\r\nSchachklub Schweinfurt 2000
URL;VALUE=URI:https://www.unser-ferienprogramm.de/schweinfurt/veranstaltung.php?id=294556
SUMMARY:ABGESAGT --- Schach-Abenteuer nach den Osterferien!
DTSTART;TZID=Europe/Berlin:20260424T151500
END:VEVENT

END:VCALENDAR
