BEGIN:VCALENDAR
VERSION:2.0
PRODID:-//hacksw/handcal//NONSGML v1.0//EN
CALSCALE:GREGORIAN
BEGIN:VTIMEZONE
TZID:Europe/Berlin
X-LIC-LOCATION:Europe/Berlin
BEGIN:DAYLIGHT
TZOFFSETFROM:+0100
TZOFFSETTO:+0200
TZNAME:CEST
DTSTART:19700329T020000
RRULE:FREQ=YEARLY;BYDAY=-1SU;BYMONTH=3
END:DAYLIGHT
BEGIN:STANDARD
TZOFFSETFROM:+0200
TZOFFSETTO:+0100
TZNAME:CET
DTSTART:19701025T030000
RRULE:FREQ=YEARLY;BYDAY=-1SU;BYMONTH=10
END:STANDARD
END:VTIMEZONE
BEGIN:VEVENT
DTEND;TZID=Europe/Berlin:20260620T193000
UID:69ebe025ecbb5
DTSTAMP:20260424T232701
LOCATION:Theater im Gemeindehaus
DESCRIPTION:Komödie von Aydin Engin und Atilla Cansever\r\nReihe migrantisches & inklusives Theater\r\n\r\nIn diesem Stück setzt sich das Theater Ulüm mit den Problemen des deutschen Alltags auseinander. Vielfalt\, Diskriminierung und Menschenrechte in der Gesellschaft werden aus der Perspektive der typischen türkischen Familie Dasch betrachtet\, die kollektiv eingedeutscht und schon fast »ein bisschen zu sehr integriert« ist.\r\n\r\nDas Theater Ulüm fragt: »Sind Sie Ausländer? Nein\, ich bin Türke! – Bedeutet das etwa\, dass Türken keine Ausländer sind? Kann man sie schon als eingedeutscht ansehen? Oder doch nur als Deutschtürken? Aber ist das überhaupt wichtig? Denn ist Mensch nicht gleich Mensch?!«\r\nDiese Komödie macht einen wichtigen Schritt auf dem Weg zur gegenseitigen Integration. Während der Aufführung legen wir unsere Unterschiede und Vorurteile beiseite\, um gemeinsam zu lachen und Freude zu teilen.\r\n
URL;VALUE=URI:https://www.unser-ferienprogramm.de/schweinfurt/veranstaltung.php?id=294159
SUMMARY:Sind Sie Ausländer? Nein! Ich bin Türke!
DTSTART;TZID=Europe/Berlin:20260620T193000
END:VEVENT

END:VCALENDAR
