BEGIN:VCALENDAR
VERSION:2.0
PRODID:-//hacksw/handcal//NONSGML v1.0//EN
CALSCALE:GREGORIAN
BEGIN:VTIMEZONE
TZID:Europe/Berlin
X-LIC-LOCATION:Europe/Berlin
BEGIN:DAYLIGHT
TZOFFSETFROM:+0100
TZOFFSETTO:+0200
TZNAME:CEST
DTSTART:19700329T020000
RRULE:FREQ=YEARLY;BYDAY=-1SU;BYMONTH=3
END:DAYLIGHT
BEGIN:STANDARD
TZOFFSETFROM:+0200
TZOFFSETTO:+0100
TZNAME:CET
DTSTART:19701025T030000
RRULE:FREQ=YEARLY;BYDAY=-1SU;BYMONTH=10
END:STANDARD
END:VTIMEZONE
BEGIN:VEVENT
DTEND;TZID=Europe/Berlin:20260507T193000
UID:69ebd11b70248
DTSTAMP:20260424T222251
LOCATION:Theater im Gemeindehaus
DESCRIPTION:Nach dem Roman von Oscar Wilde\r\n\r\nDer viktorianische Dauerbrenner von Oscar Wilde ist unserer Gesellschaft wie auf den Leib geschrieben: provokant und queer\, eine pointierte Studie über Schönheitswahn und den Traum ewiger Jugend\, über Moral und Gewissen. »Das Bildnis des Dorian Gray« ist eine veritable Gruselstory voller Sprachwitz.\r\n\r\nSchönheit – davon hat der junge Dorian Gray in Hülle und Fülle und zieht deswegen die Aufmerksamkeit des zügellosen Dandys Sir Henry Wotton auf sich. Er lässt sich von dessen Rede über einen neuen Hedonismus mitreißen und beginnt\, die Welt wie ein Kunstwerk zu betrachten. Anstelle von Empathie\, Zuneigung und Moral zählt für ihn fortan nur noch das Ästhetische\, auch in seiner Liebesbeziehung zur Schauspielerin Sibyl Vane. Ein Künstler fertigt sogar ein Porträt Dorians an\, das dessen Jugend einfängt – und plötzlich beginnt\, an seiner Stelle zu altern.\r\n
URL;VALUE=URI:https://www.unser-ferienprogramm.de/schweinfurt/veranstaltung.php?id=294158
SUMMARY:Das Bildnis des Dorian Gray
DTSTART;TZID=Europe/Berlin:20260507T193000
END:VEVENT

END:VCALENDAR
