BEGIN:VCALENDAR
VERSION:2.0
PRODID:-//hacksw/handcal//NONSGML v1.0//EN
CALSCALE:GREGORIAN
BEGIN:VTIMEZONE
TZID:Europe/Berlin
X-LIC-LOCATION:Europe/Berlin
BEGIN:DAYLIGHT
TZOFFSETFROM:+0100
TZOFFSETTO:+0200
TZNAME:CEST
DTSTART:19700329T020000
RRULE:FREQ=YEARLY;BYDAY=-1SU;BYMONTH=3
END:DAYLIGHT
BEGIN:STANDARD
TZOFFSETFROM:+0200
TZOFFSETTO:+0100
TZNAME:CET
DTSTART:19701025T030000
RRULE:FREQ=YEARLY;BYDAY=-1SU;BYMONTH=10
END:STANDARD
END:VTIMEZONE
BEGIN:VEVENT
DTEND;TZID=Europe/Berlin:20260428T193000
UID:69ebce598facb
DTSTAMP:20260424T221105
LOCATION:Theater im Gemeindehaus
DESCRIPTION:Punk-Rock-Musical von Manuel de Rien und Oliver Graf\r\nnach dem Roman von George Orwell | URAUFFÜHRUNG\r\n\r\nDen Tieren auf der Manor Farm geht es schlecht. Ihre tägliche Essensration ist karg und sie müssen arbeiten bis zum Umfallen – oder bis sie getötet werden. Als der Bauer eines Morgens die Fütterung vergisst\, starten die Tiere eine Rebellion: Sie verjagen ihn vom Hof und fangen an\, sich selbst zu organisieren und zu strukturieren – mit dem Ziel\, ein freundliches Leben zu führen\, in dem alle Tiere gleich sind. Doch die Idylle hält nicht lange an. Nach und nach übernehmen die Schweine das Regiment und\r\nbauen ihre Macht immer weiter aus\, bis irgendwann klar wird: »Alle Tiere sind gleich\, aber einige Tiere sind gleicher als andere«.\r\nGeorge Orwells politische Fabel aus dem Jahr 1945 ist eine scharfsinnige Allegorie auf totalitäre Systeme. Sie thematisiert Unterdrückung\, Machtmissbrauch und den zerbrechlichen Traum von Freiheit\, Gleichheit und Brüderlichkeit. Orwell schrieb sie als Abrechnung mit der kommunistischen Revolution von 1917 – doch die Parallelen zur Gegenwart wirken erschreckend aktuell. Passend zu den Rebellionen und Schlachten\, wie sie im Stück dargestellt werden\, treibt die von Manuel de Rien komponierte Musik die Geschichte voran und sorgt für einen intensiven Theaterabend.\r\n
URL;VALUE=URI:https://www.unser-ferienprogramm.de/schweinfurt/veranstaltung.php?id=294157
SUMMARY:Farm der Tiere – Das Musical
DTSTART;TZID=Europe/Berlin:20260428T193000
END:VEVENT


BEGIN:VEVENT
DTEND;TZID=Europe/Berlin:20260429T110000
UID:69ebce598fb091
DTSTAMP:20260424T221105
LOCATION:Theater im Gemeindehaus
DESCRIPTION:Punk-Rock-Musical von Manuel de Rien und Oliver Graf\r\nnach dem Roman von George Orwell | URAUFFÜHRUNG\r\n\r\nDen Tieren auf der Manor Farm geht es schlecht. Ihre tägliche Essensration ist karg und sie müssen arbeiten bis zum Umfallen – oder bis sie getötet werden. Als der Bauer eines Morgens die Fütterung vergisst\, starten die Tiere eine Rebellion: Sie verjagen ihn vom Hof und fangen an\, sich selbst zu organisieren und zu strukturieren – mit dem Ziel\, ein freundliches Leben zu führen\, in dem alle Tiere gleich sind. Doch die Idylle hält nicht lange an. Nach und nach übernehmen die Schweine das Regiment und\r\nbauen ihre Macht immer weiter aus\, bis irgendwann klar wird: »Alle Tiere sind gleich\, aber einige Tiere sind gleicher als andere«.\r\nGeorge Orwells politische Fabel aus dem Jahr 1945 ist eine scharfsinnige Allegorie auf totalitäre Systeme. Sie thematisiert Unterdrückung\, Machtmissbrauch und den zerbrechlichen Traum von Freiheit\, Gleichheit und Brüderlichkeit. Orwell schrieb sie als Abrechnung mit der kommunistischen Revolution von 1917 – doch die Parallelen zur Gegenwart wirken erschreckend aktuell. Passend zu den Rebellionen und Schlachten\, wie sie im Stück dargestellt werden\, treibt die von Manuel de Rien komponierte Musik die Geschichte voran und sorgt für einen intensiven Theaterabend.\r\n
URL;VALUE=URI:https://www.unser-ferienprogramm.de/schweinfurt/veranstaltung.php?id=294157
SUMMARY:Farm der Tiere – Das Musical
DTSTART;TZID=Europe/Berlin:20260429T110000
END:VEVENT

END:VCALENDAR
