BEGIN:VCALENDAR
VERSION:2.0
PRODID:-//hacksw/handcal//NONSGML v1.0//EN
CALSCALE:GREGORIAN
BEGIN:VTIMEZONE
TZID:Europe/Berlin
X-LIC-LOCATION:Europe/Berlin
BEGIN:DAYLIGHT
TZOFFSETFROM:+0100
TZOFFSETTO:+0200
TZNAME:CEST
DTSTART:19700329T020000
RRULE:FREQ=YEARLY;BYDAY=-1SU;BYMONTH=3
END:DAYLIGHT
BEGIN:STANDARD
TZOFFSETFROM:+0200
TZOFFSETTO:+0100
TZNAME:CET
DTSTART:19701025T030000
RRULE:FREQ=YEARLY;BYDAY=-1SU;BYMONTH=10
END:STANDARD
END:VTIMEZONE
BEGIN:VEVENT
DTEND;TZID=Europe/Berlin:20260803T160000
UID:69ebdeb2e1076
DTSTAMP:20260424T232050
LOCATION:WOODZ
DESCRIPTION:In den Ferien wollen wir gemeinsam Spaß haben – und zwar richtig als Team!\r\nUnsere vielfältigen Sport- und Bewegungsspiele sind so gestaltet\, dass es nur Gewinner gibt.\r\n\r\nBei gutem Wetter nutzen wir die Außenanlage des WOODZ\, um gemeinsam zu spielen und zu sporteln. Sollte das Wetter mal nicht mitspielen\, sind wir drinnen in der Einrichtung\, spielen\, gestalten und chillen ganz nach Lust und Laune. Zur Stärkung bereiten wir auch leckere Snacks und Getränke zu.\r\n\r\nGemeinsam planen wir unsere Aktivitäten und genießen die Zeit zusammen.\r\n\r\nBitte denkt an passende Kleidung und Schuhe sowie evtl. Sonnenschutz.\r\nEin warmes Mittagessen (auch vegetarisch\, jedoch nicht vegan) und Getränke zum Nachfüllen (Wasser\, Tee) sind im Preis enthalten.\r\nBringt bitte sportliche Kleidung\, Sportschuhe\, eine Brotzeitbox mit einem Frühstück und eine Trinkflasche mit – alles bitte mit Namen beschriften.\r\n\r\nVeranstalter:\r\nKolping Bildungszentrum Schweinfurt in Kooperation mit der Kommunalen Jugendarbeit der Stadt Schweinfurt\r\n
URL;VALUE=URI:https://www.unser-ferienprogramm.de/schweinfurt/veranstaltung.php?id=294119
SUMMARY:Bewegung\, Spiel und Spaß in den Sommerferien
DTSTART;TZID=Europe/Berlin:20260803T074500
END:VEVENT


BEGIN:VEVENT
DTEND;TZID=Europe/Berlin:20260804T160000
UID:69ebdeb2e10931
DTSTAMP:20260424T232050
LOCATION:WOODZ
DESCRIPTION:In den Ferien wollen wir gemeinsam Spaß haben – und zwar richtig als Team!\r\nUnsere vielfältigen Sport- und Bewegungsspiele sind so gestaltet\, dass es nur Gewinner gibt.\r\n\r\nBei gutem Wetter nutzen wir die Außenanlage des WOODZ\, um gemeinsam zu spielen und zu sporteln. Sollte das Wetter mal nicht mitspielen\, sind wir drinnen in der Einrichtung\, spielen\, gestalten und chillen ganz nach Lust und Laune. Zur Stärkung bereiten wir auch leckere Snacks und Getränke zu.\r\n\r\nGemeinsam planen wir unsere Aktivitäten und genießen die Zeit zusammen.\r\n\r\nBitte denkt an passende Kleidung und Schuhe sowie evtl. Sonnenschutz.\r\nEin warmes Mittagessen (auch vegetarisch\, jedoch nicht vegan) und Getränke zum Nachfüllen (Wasser\, Tee) sind im Preis enthalten.\r\nBringt bitte sportliche Kleidung\, Sportschuhe\, eine Brotzeitbox mit einem Frühstück und eine Trinkflasche mit – alles bitte mit Namen beschriften.\r\n\r\nVeranstalter:\r\nKolping Bildungszentrum Schweinfurt in Kooperation mit der Kommunalen Jugendarbeit der Stadt Schweinfurt\r\n
URL;VALUE=URI:https://www.unser-ferienprogramm.de/schweinfurt/veranstaltung.php?id=294119
SUMMARY:Bewegung\, Spiel und Spaß in den Sommerferien
DTSTART;TZID=Europe/Berlin:20260804T074500
END:VEVENT


BEGIN:VEVENT
DTEND;TZID=Europe/Berlin:20260805T160000
UID:69ebdeb2e10a62
DTSTAMP:20260424T232050
LOCATION:WOODZ
DESCRIPTION:In den Ferien wollen wir gemeinsam Spaß haben – und zwar richtig als Team!\r\nUnsere vielfältigen Sport- und Bewegungsspiele sind so gestaltet\, dass es nur Gewinner gibt.\r\n\r\nBei gutem Wetter nutzen wir die Außenanlage des WOODZ\, um gemeinsam zu spielen und zu sporteln. Sollte das Wetter mal nicht mitspielen\, sind wir drinnen in der Einrichtung\, spielen\, gestalten und chillen ganz nach Lust und Laune. Zur Stärkung bereiten wir auch leckere Snacks und Getränke zu.\r\n\r\nGemeinsam planen wir unsere Aktivitäten und genießen die Zeit zusammen.\r\n\r\nBitte denkt an passende Kleidung und Schuhe sowie evtl. Sonnenschutz.\r\nEin warmes Mittagessen (auch vegetarisch\, jedoch nicht vegan) und Getränke zum Nachfüllen (Wasser\, Tee) sind im Preis enthalten.\r\nBringt bitte sportliche Kleidung\, Sportschuhe\, eine Brotzeitbox mit einem Frühstück und eine Trinkflasche mit – alles bitte mit Namen beschriften.\r\n\r\nVeranstalter:\r\nKolping Bildungszentrum Schweinfurt in Kooperation mit der Kommunalen Jugendarbeit der Stadt Schweinfurt\r\n
URL;VALUE=URI:https://www.unser-ferienprogramm.de/schweinfurt/veranstaltung.php?id=294119
SUMMARY:Bewegung\, Spiel und Spaß in den Sommerferien
DTSTART;TZID=Europe/Berlin:20260805T074500
END:VEVENT


BEGIN:VEVENT
DTEND;TZID=Europe/Berlin:20260806T160000
UID:69ebdeb2e10b53
DTSTAMP:20260424T232050
LOCATION:WOODZ
DESCRIPTION:In den Ferien wollen wir gemeinsam Spaß haben – und zwar richtig als Team!\r\nUnsere vielfältigen Sport- und Bewegungsspiele sind so gestaltet\, dass es nur Gewinner gibt.\r\n\r\nBei gutem Wetter nutzen wir die Außenanlage des WOODZ\, um gemeinsam zu spielen und zu sporteln. Sollte das Wetter mal nicht mitspielen\, sind wir drinnen in der Einrichtung\, spielen\, gestalten und chillen ganz nach Lust und Laune. Zur Stärkung bereiten wir auch leckere Snacks und Getränke zu.\r\n\r\nGemeinsam planen wir unsere Aktivitäten und genießen die Zeit zusammen.\r\n\r\nBitte denkt an passende Kleidung und Schuhe sowie evtl. Sonnenschutz.\r\nEin warmes Mittagessen (auch vegetarisch\, jedoch nicht vegan) und Getränke zum Nachfüllen (Wasser\, Tee) sind im Preis enthalten.\r\nBringt bitte sportliche Kleidung\, Sportschuhe\, eine Brotzeitbox mit einem Frühstück und eine Trinkflasche mit – alles bitte mit Namen beschriften.\r\n\r\nVeranstalter:\r\nKolping Bildungszentrum Schweinfurt in Kooperation mit der Kommunalen Jugendarbeit der Stadt Schweinfurt\r\n
URL;VALUE=URI:https://www.unser-ferienprogramm.de/schweinfurt/veranstaltung.php?id=294119
SUMMARY:Bewegung\, Spiel und Spaß in den Sommerferien
DTSTART;TZID=Europe/Berlin:20260806T074500
END:VEVENT


BEGIN:VEVENT
DTEND;TZID=Europe/Berlin:20260807T160000
UID:69ebdeb2e10c34
DTSTAMP:20260424T232050
LOCATION:WOODZ
DESCRIPTION:In den Ferien wollen wir gemeinsam Spaß haben – und zwar richtig als Team!\r\nUnsere vielfältigen Sport- und Bewegungsspiele sind so gestaltet\, dass es nur Gewinner gibt.\r\n\r\nBei gutem Wetter nutzen wir die Außenanlage des WOODZ\, um gemeinsam zu spielen und zu sporteln. Sollte das Wetter mal nicht mitspielen\, sind wir drinnen in der Einrichtung\, spielen\, gestalten und chillen ganz nach Lust und Laune. Zur Stärkung bereiten wir auch leckere Snacks und Getränke zu.\r\n\r\nGemeinsam planen wir unsere Aktivitäten und genießen die Zeit zusammen.\r\n\r\nBitte denkt an passende Kleidung und Schuhe sowie evtl. Sonnenschutz.\r\nEin warmes Mittagessen (auch vegetarisch\, jedoch nicht vegan) und Getränke zum Nachfüllen (Wasser\, Tee) sind im Preis enthalten.\r\nBringt bitte sportliche Kleidung\, Sportschuhe\, eine Brotzeitbox mit einem Frühstück und eine Trinkflasche mit – alles bitte mit Namen beschriften.\r\n\r\nVeranstalter:\r\nKolping Bildungszentrum Schweinfurt in Kooperation mit der Kommunalen Jugendarbeit der Stadt Schweinfurt\r\n
URL;VALUE=URI:https://www.unser-ferienprogramm.de/schweinfurt/veranstaltung.php?id=294119
SUMMARY:Bewegung\, Spiel und Spaß in den Sommerferien
DTSTART;TZID=Europe/Berlin:20260807T074500
END:VEVENT

END:VCALENDAR
