BEGIN:VCALENDAR
VERSION:2.0
PRODID:-//hacksw/handcal//NONSGML v1.0//EN
CALSCALE:GREGORIAN
BEGIN:VTIMEZONE
TZID:Europe/Berlin
X-LIC-LOCATION:Europe/Berlin
BEGIN:DAYLIGHT
TZOFFSETFROM:+0100
TZOFFSETTO:+0200
TZNAME:CEST
DTSTART:19700329T020000
RRULE:FREQ=YEARLY;BYDAY=-1SU;BYMONTH=3
END:DAYLIGHT
BEGIN:STANDARD
TZOFFSETFROM:+0200
TZOFFSETTO:+0100
TZNAME:CET
DTSTART:19701025T030000
RRULE:FREQ=YEARLY;BYDAY=-1SU;BYMONTH=10
END:STANDARD
END:VTIMEZONE
BEGIN:VEVENT
DTEND;TZID=Europe/Berlin:20260601T160000
UID:69ebf63490ad3
DTSTAMP:20260425T010108
LOCATION:WildparkKids Gelände
DESCRIPTION:Direkt neben dem Bauernhof im Wildpark Schweinfurt befindet sich die Basis der WildparkKids – ein Ferienangebot für Schulkinder von 6 bis 12 Jahren. Eine Woche lang erleben die Kinder Natur hautnah\, begrüßt vom Grunzen der Schweine und begleitet von spannenden Erkundungen durch den gesamten Wildpark.\r\n\r\nAm ersten Tag steht das Kennenlernen im Mittelpunkt: der Betreuenden\, der anderen Kinder und des Geländes. Ab dem zweiten Tag dürfen die Kinder täglich etwa eine Stunde in Kleingruppen den Wildpark erkunden – mit Unterstützung der Betreuenden in Reichweite.\r\n\r\nIm Fokus stehen die eigenen Interessen der Kinder: Sie können täglich aus verschiedenen Aktivitäten wie Sport\, Spiel\, Bauen\, Basteln oder dem Entdecken von Natur\, Pflanzen und Tieren wählen. In der Freispielzeit entspannen die Kinder beim Malen im Indianertipi\, Lesen auf der Picknickdecke oder beim Bauen von Lagern im Wald. Besonders beliebt sind Wasserschlachten an heißen Tagen oder Matschen bei Regen.\r\n\r\nÖffnungszeiten:\r\nAnkommen ab 7:45 Uhr\, Programmstart um 8:15 Uhr\, Abholung zwischen 15:30 und 16:00 Uhr\r\n\r\nVerpflegung:\r\nMittagessen (auch vegetarisch)\, Wasser und Tee zum Nachfüllen sind inklusive\r\nBitte eine Trinkflasche und eine Brotzeitbox mit einem kleinen Frühstück mitbringen\r\n\r\nHinweis:\r\nBitte an wettergerechte Kleidung\, feste Schuhe und Sonnenschutz denken\r\n\r\nVerantwortlich: Luisa Dünisch\, Lena Roth\r\n
URL;VALUE=URI:https://www.unser-ferienprogramm.de/schweinfurt/veranstaltung.php?id=287092
SUMMARY:WildparkKids in den Pfingstferien II
DTSTART;TZID=Europe/Berlin:20260601T074500
END:VEVENT


BEGIN:VEVENT
DTEND;TZID=Europe/Berlin:20260602T160000
UID:69ebf63490b201
DTSTAMP:20260425T010108
LOCATION:WildparkKids Gelände
DESCRIPTION:Direkt neben dem Bauernhof im Wildpark Schweinfurt befindet sich die Basis der WildparkKids – ein Ferienangebot für Schulkinder von 6 bis 12 Jahren. Eine Woche lang erleben die Kinder Natur hautnah\, begrüßt vom Grunzen der Schweine und begleitet von spannenden Erkundungen durch den gesamten Wildpark.\r\n\r\nAm ersten Tag steht das Kennenlernen im Mittelpunkt: der Betreuenden\, der anderen Kinder und des Geländes. Ab dem zweiten Tag dürfen die Kinder täglich etwa eine Stunde in Kleingruppen den Wildpark erkunden – mit Unterstützung der Betreuenden in Reichweite.\r\n\r\nIm Fokus stehen die eigenen Interessen der Kinder: Sie können täglich aus verschiedenen Aktivitäten wie Sport\, Spiel\, Bauen\, Basteln oder dem Entdecken von Natur\, Pflanzen und Tieren wählen. In der Freispielzeit entspannen die Kinder beim Malen im Indianertipi\, Lesen auf der Picknickdecke oder beim Bauen von Lagern im Wald. Besonders beliebt sind Wasserschlachten an heißen Tagen oder Matschen bei Regen.\r\n\r\nÖffnungszeiten:\r\nAnkommen ab 7:45 Uhr\, Programmstart um 8:15 Uhr\, Abholung zwischen 15:30 und 16:00 Uhr\r\n\r\nVerpflegung:\r\nMittagessen (auch vegetarisch)\, Wasser und Tee zum Nachfüllen sind inklusive\r\nBitte eine Trinkflasche und eine Brotzeitbox mit einem kleinen Frühstück mitbringen\r\n\r\nHinweis:\r\nBitte an wettergerechte Kleidung\, feste Schuhe und Sonnenschutz denken\r\n\r\nVerantwortlich: Luisa Dünisch\, Lena Roth\r\n
URL;VALUE=URI:https://www.unser-ferienprogramm.de/schweinfurt/veranstaltung.php?id=287092
SUMMARY:WildparkKids in den Pfingstferien II
DTSTART;TZID=Europe/Berlin:20260602T074500
END:VEVENT


BEGIN:VEVENT
DTEND;TZID=Europe/Berlin:20260603T160000
UID:69ebf63490b362
DTSTAMP:20260425T010108
LOCATION:WildparkKids Gelände
DESCRIPTION:Direkt neben dem Bauernhof im Wildpark Schweinfurt befindet sich die Basis der WildparkKids – ein Ferienangebot für Schulkinder von 6 bis 12 Jahren. Eine Woche lang erleben die Kinder Natur hautnah\, begrüßt vom Grunzen der Schweine und begleitet von spannenden Erkundungen durch den gesamten Wildpark.\r\n\r\nAm ersten Tag steht das Kennenlernen im Mittelpunkt: der Betreuenden\, der anderen Kinder und des Geländes. Ab dem zweiten Tag dürfen die Kinder täglich etwa eine Stunde in Kleingruppen den Wildpark erkunden – mit Unterstützung der Betreuenden in Reichweite.\r\n\r\nIm Fokus stehen die eigenen Interessen der Kinder: Sie können täglich aus verschiedenen Aktivitäten wie Sport\, Spiel\, Bauen\, Basteln oder dem Entdecken von Natur\, Pflanzen und Tieren wählen. In der Freispielzeit entspannen die Kinder beim Malen im Indianertipi\, Lesen auf der Picknickdecke oder beim Bauen von Lagern im Wald. Besonders beliebt sind Wasserschlachten an heißen Tagen oder Matschen bei Regen.\r\n\r\nÖffnungszeiten:\r\nAnkommen ab 7:45 Uhr\, Programmstart um 8:15 Uhr\, Abholung zwischen 15:30 und 16:00 Uhr\r\n\r\nVerpflegung:\r\nMittagessen (auch vegetarisch)\, Wasser und Tee zum Nachfüllen sind inklusive\r\nBitte eine Trinkflasche und eine Brotzeitbox mit einem kleinen Frühstück mitbringen\r\n\r\nHinweis:\r\nBitte an wettergerechte Kleidung\, feste Schuhe und Sonnenschutz denken\r\n\r\nVerantwortlich: Luisa Dünisch\, Lena Roth\r\n
URL;VALUE=URI:https://www.unser-ferienprogramm.de/schweinfurt/veranstaltung.php?id=287092
SUMMARY:WildparkKids in den Pfingstferien II
DTSTART;TZID=Europe/Berlin:20260603T074500
END:VEVENT

END:VCALENDAR
