BEGIN:VCALENDAR
VERSION:2.0
PRODID:-//hacksw/handcal//NONSGML v1.0//EN
CALSCALE:GREGORIAN
BEGIN:VTIMEZONE
TZID:Europe/Berlin
X-LIC-LOCATION:Europe/Berlin
BEGIN:DAYLIGHT
TZOFFSETFROM:+0100
TZOFFSETTO:+0200
TZNAME:CEST
DTSTART:19700329T020000
RRULE:FREQ=YEARLY;BYDAY=-1SU;BYMONTH=3
END:DAYLIGHT
BEGIN:STANDARD
TZOFFSETFROM:+0200
TZOFFSETTO:+0100
TZNAME:CET
DTSTART:19701025T030000
RRULE:FREQ=YEARLY;BYDAY=-1SU;BYMONTH=10
END:STANDARD
END:VTIMEZONE
BEGIN:VEVENT
DTEND;TZID=Europe/Berlin:20260531T000000
UID:69e63fa9889d5
DTSTAMP:20260420T170057
LOCATION:St. Johann im Pongau\, Österreich - Abfahrt: Schwäbisch Gmünd\, Hussenhofen
DESCRIPTION:Erlebe die Pfingstferien wie du sie dir immer gewünscht hast!\r\nVoller Spaß und Erholung an einem wunderschönen Ort!\r\n\r\nAuf dich warten neue Freunde und aufregende Abenteuer.\r\nMit der Kinderfreizeit im Schlosshotel in St. Johann im Pongau kannst du die erste Woche deiner Pfingstferien so richtig auskosten.\r\n\r\nEin Tag in der Freizeit startet sportlich. Danach bist du wach und kannst dich mit einem leckeren Frühstück stärken. Die Entdeckungstour geht los!\r\nMorgens hörst du eine spannende biblische Geschichte. Nachmittags erwarten dich Geländespiele\, Bogenschießen\, Rätsel lösen\, eine Trampolinhalle und Kreatives. Kein Tag ist wie der andere\, und wenn es dir mal zu bunt wird\, kannst du es dir in der Leseecke gemütlich machen. Am Lagerfeuer lässt du den Abend ausklingen und freust und dich auf den nächsten erlebnisreichen Tag.
URL;VALUE=URI:https://www.unser-ferienprogramm.de/schwaebisch-gmuend/veranstaltung.php?id=310590
SUMMARY:Kinderfreizeit
DTSTART;TZID=Europe/Berlin:20260525T000000
END:VEVENT

END:VCALENDAR
