BEGIN:VCALENDAR
VERSION:2.0
PRODID:-//hacksw/handcal//NONSGML v1.0//EN
CALSCALE:GREGORIAN
BEGIN:VTIMEZONE
TZID:Europe/Berlin
X-LIC-LOCATION:Europe/Berlin
BEGIN:DAYLIGHT
TZOFFSETFROM:+0100
TZOFFSETTO:+0200
TZNAME:CEST
DTSTART:19700329T020000
RRULE:FREQ=YEARLY;BYDAY=-1SU;BYMONTH=3
END:DAYLIGHT
BEGIN:STANDARD
TZOFFSETFROM:+0200
TZOFFSETTO:+0100
TZNAME:CET
DTSTART:19701025T030000
RRULE:FREQ=YEARLY;BYDAY=-1SU;BYMONTH=10
END:STANDARD
END:VTIMEZONE
BEGIN:VEVENT
DTEND;TZID=Europe/Berlin:20260919T160000
UID:69e60ed8cfaa8
DTSTAMP:20260420T133240
LOCATION:Marktplatz\, Johannisplatz\, Bocksgasse
DESCRIPTION:Am ersten Samstag nach den Sommerferien findet das alljährliche\, schon zur Tradition gewordene Weltkindertagsfest statt.\r\nKlein und Groß\, Jung und Alt und überhaupt alle\, denen Kinder am Herz liegen sind dabei.\r\nEs gibt viel zu erleben: Bewegung\, Spiel\, Spaß\, Geschichten\, leckere Speisen und Getränke\, Musik\, singen\, tanzen\, malen\, werkeln\, basteln und vieles mehr gibt es auszuprobieren und zum „Mit-nach-Hause-nehmen“.\r\nBei der Programmgestaltung machen sich sowohl die Mitglieder des Arbeitskreises Weltkindertag\, als auch viele Vereine und Verbände daran\, aus einem ganz gewöhnlichem Samstag ein wunderschönes Kinder-Familien-Fest wird.
URL;VALUE=URI:https://www.unser-ferienprogramm.de/schwaebisch-gmuend/veranstaltung.php?id=309940
SUMMARY:Weltkindertag
DTSTART;TZID=Europe/Berlin:20260919T110000
END:VEVENT

END:VCALENDAR
