BEGIN:VCALENDAR
VERSION:2.0
PRODID:-//hacksw/handcal//NONSGML v1.0//EN
CALSCALE:GREGORIAN
BEGIN:VTIMEZONE
TZID:Europe/Berlin
X-LIC-LOCATION:Europe/Berlin
BEGIN:DAYLIGHT
TZOFFSETFROM:+0100
TZOFFSETTO:+0200
TZNAME:CEST
DTSTART:19700329T020000
RRULE:FREQ=YEARLY;BYDAY=-1SU;BYMONTH=3
END:DAYLIGHT
BEGIN:STANDARD
TZOFFSETFROM:+0200
TZOFFSETTO:+0100
TZNAME:CET
DTSTART:19701025T030000
RRULE:FREQ=YEARLY;BYDAY=-1SU;BYMONTH=10
END:STANDARD
END:VTIMEZONE
BEGIN:VEVENT
DTEND;TZID=Europe/Berlin:20261027T130000
UID:69e6108d75f12
DTSTAMP:20260420T133957
LOCATION:Schwäbisch Gmünd\, Mitte
DESCRIPTION:Liebe Kinder\, liebe Eltern\,\r\nin den Herbstferien wird es bei uns so richtig gemütlich! An zwei Tagen im Cozy KAPS stimmen wir uns gemeinsam auf den Herbst ein und genießen ruhige\, kreative und leckere Aktionen.\r\nGeplant sind unter anderem:\r\n- Herbstdekoration basteln\r\n- Gemeinsam Suppe kochen\r\n- Backen und gemeinsames Genießen\r\n- Zeit für Gemütlichkeit\, Austausch und Beisammensein\r\nIn warmer Atmosphäre möchten wir zusammen kreativ sein\, kochen\, backen und es uns einfach gutgehen lassen.\r\n\r\nWir freuen uns auf zwei gemütliche\, herbstliche Ferientage mit euch!
URL;VALUE=URI:https://www.unser-ferienprogramm.de/schwaebisch-gmuend/veranstaltung.php?id=302164
SUMMARY:KAPS Cozy KAPS
DTSTART;TZID=Europe/Berlin:20261027T100000
END:VEVENT


BEGIN:VEVENT
DTEND;TZID=Europe/Berlin:20261028T130000
UID:69e6108d75f511
DTSTAMP:20260420T133957
LOCATION:Schwäbisch Gmünd\, Mitte
DESCRIPTION:Liebe Kinder\, liebe Eltern\,\r\nin den Herbstferien wird es bei uns so richtig gemütlich! An zwei Tagen im Cozy KAPS stimmen wir uns gemeinsam auf den Herbst ein und genießen ruhige\, kreative und leckere Aktionen.\r\nGeplant sind unter anderem:\r\n- Herbstdekoration basteln\r\n- Gemeinsam Suppe kochen\r\n- Backen und gemeinsames Genießen\r\n- Zeit für Gemütlichkeit\, Austausch und Beisammensein\r\nIn warmer Atmosphäre möchten wir zusammen kreativ sein\, kochen\, backen und es uns einfach gutgehen lassen.\r\n\r\nWir freuen uns auf zwei gemütliche\, herbstliche Ferientage mit euch!
URL;VALUE=URI:https://www.unser-ferienprogramm.de/schwaebisch-gmuend/veranstaltung.php?id=302164
SUMMARY:KAPS Cozy KAPS
DTSTART;TZID=Europe/Berlin:20261028T100000
END:VEVENT

END:VCALENDAR
