BEGIN:VCALENDAR
VERSION:2.0
PRODID:-//hacksw/handcal//NONSGML v1.0//EN
CALSCALE:GREGORIAN
BEGIN:VTIMEZONE
TZID:Europe/Berlin
X-LIC-LOCATION:Europe/Berlin
BEGIN:DAYLIGHT
TZOFFSETFROM:+0100
TZOFFSETTO:+0200
TZNAME:CEST
DTSTART:19700329T020000
RRULE:FREQ=YEARLY;BYDAY=-1SU;BYMONTH=3
END:DAYLIGHT
BEGIN:STANDARD
TZOFFSETFROM:+0200
TZOFFSETTO:+0100
TZNAME:CET
DTSTART:19701025T030000
RRULE:FREQ=YEARLY;BYDAY=-1SU;BYMONTH=10
END:STANDARD
END:VTIMEZONE
BEGIN:VEVENT
DTEND;TZID=Europe/Berlin:20260330T190000
UID:69e5fafc05381
DTSTAMP:20260420T120756
LOCATION:Schwäbisch Gmünd\, Schießtal
DESCRIPTION:Die Veranstaltung kann zu jedem Termin oder zu einem ausgewählten Termin direkt beim Veranstalter gebucht werden.\r\n\r\nSport - Spiel - Spass\r\nFussball Schnuppertraining für Mädels
URL;VALUE=URI:https://www.unser-ferienprogramm.de/schwaebisch-gmuend/veranstaltung.php?id=301057
SUMMARY:Schnuppertraining Mädchenfussball
DTSTART;TZID=Europe/Berlin:20260330T173000
END:VEVENT


BEGIN:VEVENT
DTEND;TZID=Europe/Berlin:20260401T190000
UID:69e5fafc053921
DTSTAMP:20260420T120756
LOCATION:Schwäbisch Gmünd\, Schießtal
DESCRIPTION:Die Veranstaltung kann zu jedem Termin oder zu einem ausgewählten Termin direkt beim Veranstalter gebucht werden.\r\n\r\nSport - Spiel - Spass\r\nFussball Schnuppertraining für Mädels
URL;VALUE=URI:https://www.unser-ferienprogramm.de/schwaebisch-gmuend/veranstaltung.php?id=301057
SUMMARY:Schnuppertraining Mädchenfussball
DTSTART;TZID=Europe/Berlin:20260401T173000
END:VEVENT


BEGIN:VEVENT
DTEND;TZID=Europe/Berlin:20260408T190000
UID:69e5fafc0539c2
DTSTAMP:20260420T120756
LOCATION:Schwäbisch Gmünd\, Schießtal
DESCRIPTION:Die Veranstaltung kann zu jedem Termin oder zu einem ausgewählten Termin direkt beim Veranstalter gebucht werden.\r\n\r\nSport - Spiel - Spass\r\nFussball Schnuppertraining für Mädels
URL;VALUE=URI:https://www.unser-ferienprogramm.de/schwaebisch-gmuend/veranstaltung.php?id=301057
SUMMARY:Schnuppertraining Mädchenfussball
DTSTART;TZID=Europe/Berlin:20260408T173000
END:VEVENT


BEGIN:VEVENT
DTEND;TZID=Europe/Berlin:20260410T190000
UID:69e5fafc053a33
DTSTAMP:20260420T120756
LOCATION:Schwäbisch Gmünd\, Schießtal
DESCRIPTION:Die Veranstaltung kann zu jedem Termin oder zu einem ausgewählten Termin direkt beim Veranstalter gebucht werden.\r\n\r\nSport - Spiel - Spass\r\nFussball Schnuppertraining für Mädels
URL;VALUE=URI:https://www.unser-ferienprogramm.de/schwaebisch-gmuend/veranstaltung.php?id=301057
SUMMARY:Schnuppertraining Mädchenfussball
DTSTART;TZID=Europe/Berlin:20260410T173000
END:VEVENT


BEGIN:VEVENT
DTEND;TZID=Europe/Berlin:20260413T190000
UID:69e5fafc053ab4
DTSTAMP:20260420T120756
LOCATION:Schwäbisch Gmünd\, Schießtal
DESCRIPTION:Die Veranstaltung kann zu jedem Termin oder zu einem ausgewählten Termin direkt beim Veranstalter gebucht werden.\r\n\r\nSport - Spiel - Spass\r\nFussball Schnuppertraining für Mädels
URL;VALUE=URI:https://www.unser-ferienprogramm.de/schwaebisch-gmuend/veranstaltung.php?id=301057
SUMMARY:Schnuppertraining Mädchenfussball
DTSTART;TZID=Europe/Berlin:20260413T173000
END:VEVENT


BEGIN:VEVENT
DTEND;TZID=Europe/Berlin:20260415T190000
UID:69e5fafc053b25
DTSTAMP:20260420T120756
LOCATION:Schwäbisch Gmünd\, Schießtal
DESCRIPTION:Die Veranstaltung kann zu jedem Termin oder zu einem ausgewählten Termin direkt beim Veranstalter gebucht werden.\r\n\r\nSport - Spiel - Spass\r\nFussball Schnuppertraining für Mädels
URL;VALUE=URI:https://www.unser-ferienprogramm.de/schwaebisch-gmuend/veranstaltung.php?id=301057
SUMMARY:Schnuppertraining Mädchenfussball
DTSTART;TZID=Europe/Berlin:20260415T173000
END:VEVENT


BEGIN:VEVENT
DTEND;TZID=Europe/Berlin:20260417T190000
UID:69e5fafc053b86
DTSTAMP:20260420T120756
LOCATION:Schwäbisch Gmünd\, Schießtal
DESCRIPTION:Die Veranstaltung kann zu jedem Termin oder zu einem ausgewählten Termin direkt beim Veranstalter gebucht werden.\r\n\r\nSport - Spiel - Spass\r\nFussball Schnuppertraining für Mädels
URL;VALUE=URI:https://www.unser-ferienprogramm.de/schwaebisch-gmuend/veranstaltung.php?id=301057
SUMMARY:Schnuppertraining Mädchenfussball
DTSTART;TZID=Europe/Berlin:20260417T173000
END:VEVENT

END:VCALENDAR
