BEGIN:VCALENDAR
VERSION:2.0
PRODID:-//hacksw/handcal//NONSGML v1.0//EN
CALSCALE:GREGORIAN
BEGIN:VTIMEZONE
TZID:Europe/Berlin
X-LIC-LOCATION:Europe/Berlin
BEGIN:DAYLIGHT
TZOFFSETFROM:+0100
TZOFFSETTO:+0200
TZNAME:CEST
DTSTART:19700329T020000
RRULE:FREQ=YEARLY;BYDAY=-1SU;BYMONTH=3
END:DAYLIGHT
BEGIN:STANDARD
TZOFFSETFROM:+0200
TZOFFSETTO:+0100
TZNAME:CET
DTSTART:19701025T030000
RRULE:FREQ=YEARLY;BYDAY=-1SU;BYMONTH=10
END:STANDARD
END:VTIMEZONE
BEGIN:VEVENT
DTEND;TZID=Europe/Berlin:20261030T170000
UID:69e62995247b9
DTSTAMP:20260420T152645
LOCATION:Schwäbisch Gmünd\, Mitte
DESCRIPTION:Bei der Kinderspielstadt „Turbulenzia“ haben Kinder im Alter von 6 bis 12 Jahren jeweils von 9 bis 17 Uhr die Gelegenheit spielerisch eine Stadt für Kinder kennen zu lernen. Die Kinderspielstadt findet in den Herbstferien im Jugendhaus am Königsturm statt. Für das leibliche Wohl ist gesorgt. Unverträglichkeiten und sonstiges geben Sie bitte im Anmeldeformular an.\r\n\r\nDie verschiedenen Räumlichkeiten bekommen bei dieser Aktion neue Funktionen. In einem Raum findet man z.B. Arbeitsamt\, Bäckerei\, Restaurant\, Schreinerei\, Malerei\, Kreativwerkstatt\, Bank oder Finanzamt. Die Kinder werden sich morgens zuerst auf dem Arbeitsamt einen Job besorgen in dem sie dann tagsüber arbeiten. Dabei verdienen sie Geld und können das es entweder anlegen oder ausgeben in dem sie Einkäufe machen oder etwas unternehmen. Auch Arbeitsstellen außerhalb werden angeboten.\r\n\r\nJeden Tag gibt es eine Bürgerversammlung in der der Tag gemeinsam mit den Kindern besprochen wird. Diese Versammlung wird von den Bürgermeistern der Kinderspielstadt vorbereitet. Auch die Bürgermeister der „Partnerstadt“ Schwäbisch Gmünd kommen zu Besuch.
URL;VALUE=URI:https://www.unser-ferienprogramm.de/schwaebisch-gmuend/veranstaltung.php?id=246806
SUMMARY:Turbulenzia
DTSTART;TZID=Europe/Berlin:20261026T090000
END:VEVENT

END:VCALENDAR
