BEGIN:VCALENDAR
VERSION:2.0
PRODID:-//hacksw/handcal//NONSGML v1.0//EN
CALSCALE:GREGORIAN
BEGIN:VTIMEZONE
TZID:Europe/Berlin
X-LIC-LOCATION:Europe/Berlin
BEGIN:DAYLIGHT
TZOFFSETFROM:+0100
TZOFFSETTO:+0200
TZNAME:CEST
DTSTART:19700329T020000
RRULE:FREQ=YEARLY;BYDAY=-1SU;BYMONTH=3
END:DAYLIGHT
BEGIN:STANDARD
TZOFFSETFROM:+0200
TZOFFSETTO:+0100
TZNAME:CET
DTSTART:19701025T030000
RRULE:FREQ=YEARLY;BYDAY=-1SU;BYMONTH=10
END:STANDARD
END:VTIMEZONE
BEGIN:VEVENT
DTEND;TZID=Europe/Berlin:20260515T180000
UID:69e569b6df34a
DTSTAMP:20260420T014806
LOCATION:Vulkaneum: Am Vulkaneum 1\, 63679 Schotten / Vogelpark: Vogelsbergstraße 212\, 63679 Schotten 
DESCRIPTION:Auch in diesem Jahr hat die Abteilung Seniorenberatung gemeinsam mit der Abteilung Jugend einen generationsübergreifenden Ausflug für Oma\, Opa und Enkel organisiert. Kommt mit auf einen schönen Tagesausflug für Jung und Alt! Gemeinsam besuchen wir das Vulkaneum\, wo wir bei einer Tour Spannendes über Vulkane und die Entstehung unserer Landschaft entdecken. In ruhiger Atmosphäre kann man schauen\, staunen und Neues erfahren.\r\n\r\nDanach geht es weiter in den Vogelpark Schotten. Hier lassen sich mehr als 60 heimische und internationale Tierarten entdecken\, von Säugetieren wie dem Stachelschwein und dem Parma-Känguru über Reptilien wie die Kornnatter bis hin zu Vögeln aus der ganzen Welt. Bei einem Spaziergang durch die Anlage bleibt viel Zeit zum Beobachten\, Entdecken und Genießen. Der Park lädt zur Entspannung ein und fungiert zusätzlich als Streichelzoo und Spielplatz.\r\nZwischendurch legen wir Pausen ein\, um uns zu stärken\, ins Gespräch zu kommen \r\nund den Tag entspannt zu genießen. Ein Ausflug\, der Bewegung\, Natur und gemeinsames Erleben verbindet und für alle Generationen etwas bietet.
URL;VALUE=URI:https://www.unser-ferienprogramm.de/schoeneck/veranstaltung.php?id=306197
SUMMARY:Ein Ausflug für Jung & Alt
DTSTART;TZID=Europe/Berlin:20260515T083000
END:VEVENT

END:VCALENDAR
